BEGIN:VCALENDAR
VERSION:2.0
PRODID:-//Cambridge Tennis Club - ECPv6.15.20//NONSGML v1.0//EN
CALSCALE:GREGORIAN
METHOD:PUBLISH
X-WR-CALNAME:Cambridge Tennis Club
X-ORIGINAL-URL:https://cambridgetennis.org
X-WR-CALDESC:Events for Cambridge Tennis Club
REFRESH-INTERVAL;VALUE=DURATION:PT1H
X-Robots-Tag:noindex
X-PUBLISHED-TTL:PT1H
BEGIN:VTIMEZONE
TZID:Europe/Paris
BEGIN:DAYLIGHT
TZOFFSETFROM:+0100
TZOFFSETTO:+0200
TZNAME:CEST
DTSTART:20240331T010000
END:DAYLIGHT
BEGIN:STANDARD
TZOFFSETFROM:+0200
TZOFFSETTO:+0100
TZNAME:CET
DTSTART:20241027T010000
END:STANDARD
BEGIN:DAYLIGHT
TZOFFSETFROM:+0100
TZOFFSETTO:+0200
TZNAME:CEST
DTSTART:20250330T010000
END:DAYLIGHT
BEGIN:STANDARD
TZOFFSETFROM:+0200
TZOFFSETTO:+0100
TZNAME:CET
DTSTART:20251026T010000
END:STANDARD
BEGIN:DAYLIGHT
TZOFFSETFROM:+0100
TZOFFSETTO:+0200
TZNAME:CEST
DTSTART:20260329T010000
END:DAYLIGHT
BEGIN:STANDARD
TZOFFSETFROM:+0200
TZOFFSETTO:+0100
TZNAME:CET
DTSTART:20261025T010000
END:STANDARD
BEGIN:DAYLIGHT
TZOFFSETFROM:+0100
TZOFFSETTO:+0200
TZNAME:CEST
DTSTART:20270328T010000
END:DAYLIGHT
BEGIN:STANDARD
TZOFFSETFROM:+0200
TZOFFSETTO:+0100
TZNAME:CET
DTSTART:20271031T010000
END:STANDARD
END:VTIMEZONE
BEGIN:VEVENT
DTSTART;TZID=Europe/Paris:20260102T073000
DTEND;TZID=Europe/Paris:20260102T090000
DTSTAMP:20260425T054229
CREATED:20250814T173459Z
LAST-MODIFIED:20250814T173459Z
UID:10000623-1767339000-1767344400@cambridgetennis.org
SUMMARY:Breakfast Club
DESCRIPTION:
URL:https://cambridgetennis.org/social-tournament-events/breakfast-club-2/2026-01-02/
END:VEVENT
BEGIN:VEVENT
DTSTART;TZID=Europe/Paris:20251231T073000
DTEND;TZID=Europe/Paris:20251231T090000
DTSTAMP:20260425T054229
CREATED:20250814T173459Z
LAST-MODIFIED:20250814T173459Z
UID:10000622-1767166200-1767171600@cambridgetennis.org
SUMMARY:Breakfast Club
DESCRIPTION:
URL:https://cambridgetennis.org/social-tournament-events/breakfast-club-2/2025-12-31/
END:VEVENT
BEGIN:VEVENT
DTSTART;TZID=Europe/Paris:20251230T183000
DTEND;TZID=Europe/Paris:20251230T200000
DTSTAMP:20260425T054229
CREATED:20250814T173303Z
LAST-MODIFIED:20250814T173303Z
UID:10000319-1767119400-1767124800@cambridgetennis.org
SUMMARY:Groundstrokes
DESCRIPTION:
URL:https://cambridgetennis.org/social-tournament-events/groundstrokes/2025-12-30/
END:VEVENT
BEGIN:VEVENT
DTSTART;TZID=Europe/Paris:20251229T173000
DTEND;TZID=Europe/Paris:20251229T190000
DTSTAMP:20260425T054229
CREATED:20250814T173137Z
LAST-MODIFIED:20250814T173137Z
UID:10000057-1767029400-1767034800@cambridgetennis.org
SUMMARY:Women's Doubles 3.0+
DESCRIPTION:
URL:https://cambridgetennis.org/social-tournament-events/womens-doubles-3-0/2025-12-29/
END:VEVENT
BEGIN:VEVENT
DTSTART;TZID=Europe/Paris:20251229T073000
DTEND;TZID=Europe/Paris:20251229T090000
DTSTAMP:20260425T054229
CREATED:20250814T173459Z
LAST-MODIFIED:20250814T173459Z
UID:10000621-1766993400-1766998800@cambridgetennis.org
SUMMARY:Breakfast Club
DESCRIPTION:
URL:https://cambridgetennis.org/social-tournament-events/breakfast-club-2/2025-12-29/
END:VEVENT
BEGIN:VEVENT
DTSTART;TZID=Europe/Paris:20251226T073000
DTEND;TZID=Europe/Paris:20251226T090000
DTSTAMP:20260425T054229
CREATED:20250814T173459Z
LAST-MODIFIED:20250814T173459Z
UID:10000620-1766734200-1766739600@cambridgetennis.org
SUMMARY:Breakfast Club
DESCRIPTION:
URL:https://cambridgetennis.org/social-tournament-events/breakfast-club-2/2025-12-26/
END:VEVENT
BEGIN:VEVENT
DTSTART;TZID=Europe/Paris:20251224T073000
DTEND;TZID=Europe/Paris:20251224T090000
DTSTAMP:20260425T054229
CREATED:20250814T173459Z
LAST-MODIFIED:20250814T173459Z
UID:10000619-1766561400-1766566800@cambridgetennis.org
SUMMARY:Breakfast Club
DESCRIPTION:
URL:https://cambridgetennis.org/social-tournament-events/breakfast-club-2/2025-12-24/
END:VEVENT
BEGIN:VEVENT
DTSTART;TZID=Europe/Paris:20251223T183000
DTEND;TZID=Europe/Paris:20251223T200000
DTSTAMP:20260425T054229
CREATED:20250814T173303Z
LAST-MODIFIED:20250814T173303Z
UID:10000318-1766514600-1766520000@cambridgetennis.org
SUMMARY:Groundstrokes
DESCRIPTION:
URL:https://cambridgetennis.org/social-tournament-events/groundstrokes/2025-12-23/
END:VEVENT
BEGIN:VEVENT
DTSTART;TZID=Europe/Paris:20251222T173000
DTEND;TZID=Europe/Paris:20251222T190000
DTSTAMP:20260425T054229
CREATED:20250814T173137Z
LAST-MODIFIED:20250814T173137Z
UID:10000056-1766424600-1766430000@cambridgetennis.org
SUMMARY:Women's Doubles 3.0+
DESCRIPTION:
URL:https://cambridgetennis.org/social-tournament-events/womens-doubles-3-0/2025-12-22/
END:VEVENT
BEGIN:VEVENT
DTSTART;TZID=Europe/Paris:20251222T073000
DTEND;TZID=Europe/Paris:20251222T090000
DTSTAMP:20260425T054229
CREATED:20250814T173459Z
LAST-MODIFIED:20250814T173459Z
UID:10000618-1766388600-1766394000@cambridgetennis.org
SUMMARY:Breakfast Club
DESCRIPTION:
URL:https://cambridgetennis.org/social-tournament-events/breakfast-club-2/2025-12-22/
END:VEVENT
BEGIN:VEVENT
DTSTART;TZID=Europe/Paris:20251219T073000
DTEND;TZID=Europe/Paris:20251219T090000
DTSTAMP:20260425T054229
CREATED:20250814T173459Z
LAST-MODIFIED:20250814T173459Z
UID:10000617-1766129400-1766134800@cambridgetennis.org
SUMMARY:Breakfast Club
DESCRIPTION:
URL:https://cambridgetennis.org/social-tournament-events/breakfast-club-2/2025-12-19/
END:VEVENT
BEGIN:VEVENT
DTSTART;TZID=Europe/Paris:20251217T073000
DTEND;TZID=Europe/Paris:20251217T090000
DTSTAMP:20260425T054229
CREATED:20250814T173459Z
LAST-MODIFIED:20250814T173459Z
UID:10000616-1765956600-1765962000@cambridgetennis.org
SUMMARY:Breakfast Club
DESCRIPTION:
URL:https://cambridgetennis.org/social-tournament-events/breakfast-club-2/2025-12-17/
END:VEVENT
BEGIN:VEVENT
DTSTART;TZID=Europe/Paris:20251216T183000
DTEND;TZID=Europe/Paris:20251216T200000
DTSTAMP:20260425T054229
CREATED:20250814T173303Z
LAST-MODIFIED:20250814T173303Z
UID:10000317-1765909800-1765915200@cambridgetennis.org
SUMMARY:Groundstrokes
DESCRIPTION:
URL:https://cambridgetennis.org/social-tournament-events/groundstrokes/2025-12-16/
END:VEVENT
BEGIN:VEVENT
DTSTART;TZID=Europe/Paris:20251215T173000
DTEND;TZID=Europe/Paris:20251215T190000
DTSTAMP:20260425T054229
CREATED:20250814T173137Z
LAST-MODIFIED:20250814T173137Z
UID:10000055-1765819800-1765825200@cambridgetennis.org
SUMMARY:Women's Doubles 3.0+
DESCRIPTION:
URL:https://cambridgetennis.org/social-tournament-events/womens-doubles-3-0/2025-12-15/
END:VEVENT
BEGIN:VEVENT
DTSTART;TZID=Europe/Paris:20251215T073000
DTEND;TZID=Europe/Paris:20251215T090000
DTSTAMP:20260425T054229
CREATED:20250814T173459Z
LAST-MODIFIED:20250814T173459Z
UID:10000615-1765783800-1765789200@cambridgetennis.org
SUMMARY:Breakfast Club
DESCRIPTION:
URL:https://cambridgetennis.org/social-tournament-events/breakfast-club-2/2025-12-15/
END:VEVENT
BEGIN:VEVENT
DTSTART;TZID=Europe/Paris:20251212T073000
DTEND;TZID=Europe/Paris:20251212T090000
DTSTAMP:20260425T054229
CREATED:20250814T173459Z
LAST-MODIFIED:20250814T173459Z
UID:10000614-1765524600-1765530000@cambridgetennis.org
SUMMARY:Breakfast Club
DESCRIPTION:
URL:https://cambridgetennis.org/social-tournament-events/breakfast-club-2/2025-12-12/
END:VEVENT
BEGIN:VEVENT
DTSTART;TZID=Europe/Paris:20251210T073000
DTEND;TZID=Europe/Paris:20251210T090000
DTSTAMP:20260425T054229
CREATED:20250814T173459Z
LAST-MODIFIED:20250814T173459Z
UID:10000613-1765351800-1765357200@cambridgetennis.org
SUMMARY:Breakfast Club
DESCRIPTION:
URL:https://cambridgetennis.org/social-tournament-events/breakfast-club-2/2025-12-10/
END:VEVENT
BEGIN:VEVENT
DTSTART;TZID=Europe/Paris:20251209T183000
DTEND;TZID=Europe/Paris:20251209T200000
DTSTAMP:20260425T054229
CREATED:20250814T173303Z
LAST-MODIFIED:20250814T173303Z
UID:10000316-1765305000-1765310400@cambridgetennis.org
SUMMARY:Groundstrokes
DESCRIPTION:
URL:https://cambridgetennis.org/social-tournament-events/groundstrokes/2025-12-09/
END:VEVENT
BEGIN:VEVENT
DTSTART;TZID=Europe/Paris:20251208T173000
DTEND;TZID=Europe/Paris:20251208T190000
DTSTAMP:20260425T054229
CREATED:20250814T173137Z
LAST-MODIFIED:20250814T173137Z
UID:10000054-1765215000-1765220400@cambridgetennis.org
SUMMARY:Women's Doubles 3.0+
DESCRIPTION:
URL:https://cambridgetennis.org/social-tournament-events/womens-doubles-3-0/2025-12-08/
END:VEVENT
BEGIN:VEVENT
DTSTART;TZID=Europe/Paris:20251208T073000
DTEND;TZID=Europe/Paris:20251208T090000
DTSTAMP:20260425T054229
CREATED:20250814T173459Z
LAST-MODIFIED:20250814T173459Z
UID:10000612-1765179000-1765184400@cambridgetennis.org
SUMMARY:Breakfast Club
DESCRIPTION:
URL:https://cambridgetennis.org/social-tournament-events/breakfast-club-2/2025-12-08/
END:VEVENT
BEGIN:VEVENT
DTSTART;TZID=Europe/Paris:20251205T073000
DTEND;TZID=Europe/Paris:20251205T090000
DTSTAMP:20260425T054229
CREATED:20250814T173459Z
LAST-MODIFIED:20250814T173459Z
UID:10000611-1764919800-1764925200@cambridgetennis.org
SUMMARY:Breakfast Club
DESCRIPTION:
URL:https://cambridgetennis.org/social-tournament-events/breakfast-club-2/2025-12-05/
END:VEVENT
BEGIN:VEVENT
DTSTART;TZID=Europe/Paris:20251203T073000
DTEND;TZID=Europe/Paris:20251203T090000
DTSTAMP:20260425T054229
CREATED:20250814T173459Z
LAST-MODIFIED:20250814T173459Z
UID:10000610-1764747000-1764752400@cambridgetennis.org
SUMMARY:Breakfast Club
DESCRIPTION:
URL:https://cambridgetennis.org/social-tournament-events/breakfast-club-2/2025-12-03/
END:VEVENT
BEGIN:VEVENT
DTSTART;TZID=Europe/Paris:20251202T183000
DTEND;TZID=Europe/Paris:20251202T200000
DTSTAMP:20260425T054229
CREATED:20250814T173303Z
LAST-MODIFIED:20250814T173303Z
UID:10000315-1764700200-1764705600@cambridgetennis.org
SUMMARY:Groundstrokes
DESCRIPTION:
URL:https://cambridgetennis.org/social-tournament-events/groundstrokes/2025-12-02/
END:VEVENT
BEGIN:VEVENT
DTSTART;TZID=Europe/Paris:20251201T173000
DTEND;TZID=Europe/Paris:20251201T190000
DTSTAMP:20260425T054229
CREATED:20250814T173137Z
LAST-MODIFIED:20250814T173137Z
UID:10000053-1764610200-1764615600@cambridgetennis.org
SUMMARY:Women's Doubles 3.0+
DESCRIPTION:
URL:https://cambridgetennis.org/social-tournament-events/womens-doubles-3-0/2025-12-01/
END:VEVENT
BEGIN:VEVENT
DTSTART;TZID=Europe/Paris:20251201T073000
DTEND;TZID=Europe/Paris:20251201T090000
DTSTAMP:20260425T054229
CREATED:20250814T173459Z
LAST-MODIFIED:20250814T173459Z
UID:10000609-1764574200-1764579600@cambridgetennis.org
SUMMARY:Breakfast Club
DESCRIPTION:
URL:https://cambridgetennis.org/social-tournament-events/breakfast-club-2/2025-12-01/
END:VEVENT
BEGIN:VEVENT
DTSTART;TZID=Europe/Paris:20251128T073000
DTEND;TZID=Europe/Paris:20251128T090000
DTSTAMP:20260425T054229
CREATED:20250814T173459Z
LAST-MODIFIED:20250814T173459Z
UID:10000608-1764315000-1764320400@cambridgetennis.org
SUMMARY:Breakfast Club
DESCRIPTION:
URL:https://cambridgetennis.org/social-tournament-events/breakfast-club-2/2025-11-28/
END:VEVENT
BEGIN:VEVENT
DTSTART;TZID=Europe/Paris:20251126T073000
DTEND;TZID=Europe/Paris:20251126T090000
DTSTAMP:20260425T054229
CREATED:20250814T173459Z
LAST-MODIFIED:20250814T173459Z
UID:10000607-1764142200-1764147600@cambridgetennis.org
SUMMARY:Breakfast Club
DESCRIPTION:
URL:https://cambridgetennis.org/social-tournament-events/breakfast-club-2/2025-11-26/
END:VEVENT
BEGIN:VEVENT
DTSTART;TZID=Europe/Paris:20251125T183000
DTEND;TZID=Europe/Paris:20251125T200000
DTSTAMP:20260425T054229
CREATED:20250814T173303Z
LAST-MODIFIED:20250814T173303Z
UID:10000314-1764095400-1764100800@cambridgetennis.org
SUMMARY:Groundstrokes
DESCRIPTION:
URL:https://cambridgetennis.org/social-tournament-events/groundstrokes/2025-11-25/
END:VEVENT
BEGIN:VEVENT
DTSTART;TZID=Europe/Paris:20251124T173000
DTEND;TZID=Europe/Paris:20251124T190000
DTSTAMP:20260425T054229
CREATED:20250814T173137Z
LAST-MODIFIED:20250814T173137Z
UID:10000052-1764005400-1764010800@cambridgetennis.org
SUMMARY:Women's Doubles 3.0+
DESCRIPTION:
URL:https://cambridgetennis.org/social-tournament-events/womens-doubles-3-0/2025-11-24/
END:VEVENT
BEGIN:VEVENT
DTSTART;TZID=Europe/Paris:20251124T073000
DTEND;TZID=Europe/Paris:20251124T090000
DTSTAMP:20260425T054229
CREATED:20250814T173459Z
LAST-MODIFIED:20250814T173459Z
UID:10000606-1763969400-1763974800@cambridgetennis.org
SUMMARY:Breakfast Club
DESCRIPTION:
URL:https://cambridgetennis.org/social-tournament-events/breakfast-club-2/2025-11-24/
END:VEVENT
END:VCALENDAR