BEGIN:VCALENDAR
VERSION:2.0
PRODID:-//Cambridge Tennis Club - ECPv6.15.20//NONSGML v1.0//EN
CALSCALE:GREGORIAN
METHOD:PUBLISH
X-WR-CALNAME:Cambridge Tennis Club
X-ORIGINAL-URL:https://cambridgetennis.org
X-WR-CALDESC:Events for Cambridge Tennis Club
REFRESH-INTERVAL;VALUE=DURATION:PT1H
X-Robots-Tag:noindex
X-PUBLISHED-TTL:PT1H
BEGIN:VTIMEZONE
TZID:Europe/Paris
BEGIN:DAYLIGHT
TZOFFSETFROM:+0100
TZOFFSETTO:+0200
TZNAME:CEST
DTSTART:20250330T010000
END:DAYLIGHT
BEGIN:STANDARD
TZOFFSETFROM:+0200
TZOFFSETTO:+0100
TZNAME:CET
DTSTART:20251026T010000
END:STANDARD
BEGIN:DAYLIGHT
TZOFFSETFROM:+0100
TZOFFSETTO:+0200
TZNAME:CEST
DTSTART:20260329T010000
END:DAYLIGHT
BEGIN:STANDARD
TZOFFSETFROM:+0200
TZOFFSETTO:+0100
TZNAME:CET
DTSTART:20261025T010000
END:STANDARD
BEGIN:DAYLIGHT
TZOFFSETFROM:+0100
TZOFFSETTO:+0200
TZNAME:CEST
DTSTART:20270328T010000
END:DAYLIGHT
BEGIN:STANDARD
TZOFFSETFROM:+0200
TZOFFSETTO:+0100
TZNAME:CET
DTSTART:20271031T010000
END:STANDARD
END:VTIMEZONE
BEGIN:VEVENT
DTSTART;TZID=Europe/Paris:20260105T073000
DTEND;TZID=Europe/Paris:20260105T090000
DTSTAMP:20260425T054137
CREATED:20250814T173459Z
LAST-MODIFIED:20250814T173459Z
UID:10000624-1767598200-1767603600@cambridgetennis.org
SUMMARY:Breakfast Club
DESCRIPTION:
URL:https://cambridgetennis.org/social-tournament-events/breakfast-club-2/2026-01-05/
END:VEVENT
BEGIN:VEVENT
DTSTART;TZID=Europe/Paris:20260105T173000
DTEND;TZID=Europe/Paris:20260105T190000
DTSTAMP:20260425T054137
CREATED:20250814T173137Z
LAST-MODIFIED:20250814T173137Z
UID:10000058-1767634200-1767639600@cambridgetennis.org
SUMMARY:Women's Doubles 3.0+
DESCRIPTION:
URL:https://cambridgetennis.org/social-tournament-events/womens-doubles-3-0/2026-01-05/
END:VEVENT
BEGIN:VEVENT
DTSTART;TZID=Europe/Paris:20260106T183000
DTEND;TZID=Europe/Paris:20260106T200000
DTSTAMP:20260425T054137
CREATED:20250814T173303Z
LAST-MODIFIED:20250814T173303Z
UID:10000320-1767724200-1767729600@cambridgetennis.org
SUMMARY:Groundstrokes
DESCRIPTION:
URL:https://cambridgetennis.org/social-tournament-events/groundstrokes/2026-01-06/
END:VEVENT
BEGIN:VEVENT
DTSTART;TZID=Europe/Paris:20260107T073000
DTEND;TZID=Europe/Paris:20260107T090000
DTSTAMP:20260425T054137
CREATED:20250814T173459Z
LAST-MODIFIED:20250814T173459Z
UID:10000625-1767771000-1767776400@cambridgetennis.org
SUMMARY:Breakfast Club
DESCRIPTION:
URL:https://cambridgetennis.org/social-tournament-events/breakfast-club-2/2026-01-07/
END:VEVENT
BEGIN:VEVENT
DTSTART;TZID=Europe/Paris:20260109T073000
DTEND;TZID=Europe/Paris:20260109T090000
DTSTAMP:20260425T054137
CREATED:20250814T173459Z
LAST-MODIFIED:20250814T173459Z
UID:10000626-1767943800-1767949200@cambridgetennis.org
SUMMARY:Breakfast Club
DESCRIPTION:
URL:https://cambridgetennis.org/social-tournament-events/breakfast-club-2/2026-01-09/
END:VEVENT
BEGIN:VEVENT
DTSTART;TZID=Europe/Paris:20260112T073000
DTEND;TZID=Europe/Paris:20260112T090000
DTSTAMP:20260425T054137
CREATED:20250814T173459Z
LAST-MODIFIED:20250814T173459Z
UID:10000627-1768203000-1768208400@cambridgetennis.org
SUMMARY:Breakfast Club
DESCRIPTION:
URL:https://cambridgetennis.org/social-tournament-events/breakfast-club-2/2026-01-12/
END:VEVENT
BEGIN:VEVENT
DTSTART;TZID=Europe/Paris:20260112T173000
DTEND;TZID=Europe/Paris:20260112T190000
DTSTAMP:20260425T054137
CREATED:20250814T173137Z
LAST-MODIFIED:20250814T173137Z
UID:10000059-1768239000-1768244400@cambridgetennis.org
SUMMARY:Women's Doubles 3.0+
DESCRIPTION:
URL:https://cambridgetennis.org/social-tournament-events/womens-doubles-3-0/2026-01-12/
END:VEVENT
BEGIN:VEVENT
DTSTART;TZID=Europe/Paris:20260113T183000
DTEND;TZID=Europe/Paris:20260113T200000
DTSTAMP:20260425T054137
CREATED:20250814T173303Z
LAST-MODIFIED:20250814T173303Z
UID:10000321-1768329000-1768334400@cambridgetennis.org
SUMMARY:Groundstrokes
DESCRIPTION:
URL:https://cambridgetennis.org/social-tournament-events/groundstrokes/2026-01-13/
END:VEVENT
BEGIN:VEVENT
DTSTART;TZID=Europe/Paris:20260114T073000
DTEND;TZID=Europe/Paris:20260114T090000
DTSTAMP:20260425T054137
CREATED:20250814T173459Z
LAST-MODIFIED:20250814T173459Z
UID:10000628-1768375800-1768381200@cambridgetennis.org
SUMMARY:Breakfast Club
DESCRIPTION:
URL:https://cambridgetennis.org/social-tournament-events/breakfast-club-2/2026-01-14/
END:VEVENT
BEGIN:VEVENT
DTSTART;TZID=Europe/Paris:20260116T073000
DTEND;TZID=Europe/Paris:20260116T090000
DTSTAMP:20260425T054137
CREATED:20250814T173459Z
LAST-MODIFIED:20250814T173459Z
UID:10000629-1768548600-1768554000@cambridgetennis.org
SUMMARY:Breakfast Club
DESCRIPTION:
URL:https://cambridgetennis.org/social-tournament-events/breakfast-club-2/2026-01-16/
END:VEVENT
BEGIN:VEVENT
DTSTART;TZID=Europe/Paris:20260119T073000
DTEND;TZID=Europe/Paris:20260119T090000
DTSTAMP:20260425T054137
CREATED:20250814T173459Z
LAST-MODIFIED:20250814T173459Z
UID:10000630-1768807800-1768813200@cambridgetennis.org
SUMMARY:Breakfast Club
DESCRIPTION:
URL:https://cambridgetennis.org/social-tournament-events/breakfast-club-2/2026-01-19/
END:VEVENT
BEGIN:VEVENT
DTSTART;TZID=Europe/Paris:20260119T173000
DTEND;TZID=Europe/Paris:20260119T190000
DTSTAMP:20260425T054137
CREATED:20250814T173137Z
LAST-MODIFIED:20250814T173137Z
UID:10000060-1768843800-1768849200@cambridgetennis.org
SUMMARY:Women's Doubles 3.0+
DESCRIPTION:
URL:https://cambridgetennis.org/social-tournament-events/womens-doubles-3-0/2026-01-19/
END:VEVENT
BEGIN:VEVENT
DTSTART;TZID=Europe/Paris:20260120T183000
DTEND;TZID=Europe/Paris:20260120T200000
DTSTAMP:20260425T054137
CREATED:20250814T173303Z
LAST-MODIFIED:20250814T173303Z
UID:10000322-1768933800-1768939200@cambridgetennis.org
SUMMARY:Groundstrokes
DESCRIPTION:
URL:https://cambridgetennis.org/social-tournament-events/groundstrokes/2026-01-20/
END:VEVENT
BEGIN:VEVENT
DTSTART;TZID=Europe/Paris:20260121T073000
DTEND;TZID=Europe/Paris:20260121T090000
DTSTAMP:20260425T054137
CREATED:20250814T173459Z
LAST-MODIFIED:20250814T173459Z
UID:10000631-1768980600-1768986000@cambridgetennis.org
SUMMARY:Breakfast Club
DESCRIPTION:
URL:https://cambridgetennis.org/social-tournament-events/breakfast-club-2/2026-01-21/
END:VEVENT
BEGIN:VEVENT
DTSTART;TZID=Europe/Paris:20260123T073000
DTEND;TZID=Europe/Paris:20260123T090000
DTSTAMP:20260425T054137
CREATED:20250814T173459Z
LAST-MODIFIED:20250814T173459Z
UID:10000632-1769153400-1769158800@cambridgetennis.org
SUMMARY:Breakfast Club
DESCRIPTION:
URL:https://cambridgetennis.org/social-tournament-events/breakfast-club-2/2026-01-23/
END:VEVENT
BEGIN:VEVENT
DTSTART;TZID=Europe/Paris:20260126T073000
DTEND;TZID=Europe/Paris:20260126T090000
DTSTAMP:20260425T054137
CREATED:20250814T173459Z
LAST-MODIFIED:20250814T173459Z
UID:10000633-1769412600-1769418000@cambridgetennis.org
SUMMARY:Breakfast Club
DESCRIPTION:
URL:https://cambridgetennis.org/social-tournament-events/breakfast-club-2/2026-01-26/
END:VEVENT
BEGIN:VEVENT
DTSTART;TZID=Europe/Paris:20260126T173000
DTEND;TZID=Europe/Paris:20260126T190000
DTSTAMP:20260425T054137
CREATED:20250814T173137Z
LAST-MODIFIED:20250814T173137Z
UID:10000061-1769448600-1769454000@cambridgetennis.org
SUMMARY:Women's Doubles 3.0+
DESCRIPTION:
URL:https://cambridgetennis.org/social-tournament-events/womens-doubles-3-0/2026-01-26/
END:VEVENT
BEGIN:VEVENT
DTSTART;TZID=Europe/Paris:20260127T183000
DTEND;TZID=Europe/Paris:20260127T200000
DTSTAMP:20260425T054137
CREATED:20250814T173303Z
LAST-MODIFIED:20250814T173303Z
UID:10000323-1769538600-1769544000@cambridgetennis.org
SUMMARY:Groundstrokes
DESCRIPTION:
URL:https://cambridgetennis.org/social-tournament-events/groundstrokes/2026-01-27/
END:VEVENT
BEGIN:VEVENT
DTSTART;TZID=Europe/Paris:20260128T073000
DTEND;TZID=Europe/Paris:20260128T090000
DTSTAMP:20260425T054137
CREATED:20250814T173459Z
LAST-MODIFIED:20250814T173459Z
UID:10000634-1769585400-1769590800@cambridgetennis.org
SUMMARY:Breakfast Club
DESCRIPTION:
URL:https://cambridgetennis.org/social-tournament-events/breakfast-club-2/2026-01-28/
END:VEVENT
BEGIN:VEVENT
DTSTART;TZID=Europe/Paris:20260130T073000
DTEND;TZID=Europe/Paris:20260130T090000
DTSTAMP:20260425T054137
CREATED:20250814T173459Z
LAST-MODIFIED:20250814T173459Z
UID:10000635-1769758200-1769763600@cambridgetennis.org
SUMMARY:Breakfast Club
DESCRIPTION:
URL:https://cambridgetennis.org/social-tournament-events/breakfast-club-2/2026-01-30/
END:VEVENT
BEGIN:VEVENT
DTSTART;TZID=Europe/Paris:20260202T073000
DTEND;TZID=Europe/Paris:20260202T090000
DTSTAMP:20260425T054137
CREATED:20250814T173459Z
LAST-MODIFIED:20250814T173459Z
UID:10000636-1770017400-1770022800@cambridgetennis.org
SUMMARY:Breakfast Club
DESCRIPTION:
URL:https://cambridgetennis.org/social-tournament-events/breakfast-club-2/2026-02-02/
END:VEVENT
BEGIN:VEVENT
DTSTART;TZID=Europe/Paris:20260202T173000
DTEND;TZID=Europe/Paris:20260202T190000
DTSTAMP:20260425T054137
CREATED:20250814T173137Z
LAST-MODIFIED:20250814T173137Z
UID:10000062-1770053400-1770058800@cambridgetennis.org
SUMMARY:Women's Doubles 3.0+
DESCRIPTION:
URL:https://cambridgetennis.org/social-tournament-events/womens-doubles-3-0/2026-02-02/
END:VEVENT
BEGIN:VEVENT
DTSTART;TZID=Europe/Paris:20260203T183000
DTEND;TZID=Europe/Paris:20260203T200000
DTSTAMP:20260425T054137
CREATED:20250814T173303Z
LAST-MODIFIED:20250814T173303Z
UID:10000324-1770143400-1770148800@cambridgetennis.org
SUMMARY:Groundstrokes
DESCRIPTION:
URL:https://cambridgetennis.org/social-tournament-events/groundstrokes/2026-02-03/
END:VEVENT
BEGIN:VEVENT
DTSTART;TZID=Europe/Paris:20260204T073000
DTEND;TZID=Europe/Paris:20260204T090000
DTSTAMP:20260425T054137
CREATED:20250814T173459Z
LAST-MODIFIED:20250814T173459Z
UID:10000637-1770190200-1770195600@cambridgetennis.org
SUMMARY:Breakfast Club
DESCRIPTION:
URL:https://cambridgetennis.org/social-tournament-events/breakfast-club-2/2026-02-04/
END:VEVENT
BEGIN:VEVENT
DTSTART;TZID=Europe/Paris:20260206T073000
DTEND;TZID=Europe/Paris:20260206T090000
DTSTAMP:20260425T054137
CREATED:20250814T173459Z
LAST-MODIFIED:20250814T173459Z
UID:10000638-1770363000-1770368400@cambridgetennis.org
SUMMARY:Breakfast Club
DESCRIPTION:
URL:https://cambridgetennis.org/social-tournament-events/breakfast-club-2/2026-02-06/
END:VEVENT
BEGIN:VEVENT
DTSTART;TZID=Europe/Paris:20260209T073000
DTEND;TZID=Europe/Paris:20260209T090000
DTSTAMP:20260425T054137
CREATED:20250814T173459Z
LAST-MODIFIED:20250814T173459Z
UID:10000639-1770622200-1770627600@cambridgetennis.org
SUMMARY:Breakfast Club
DESCRIPTION:
URL:https://cambridgetennis.org/social-tournament-events/breakfast-club-2/2026-02-09/
END:VEVENT
BEGIN:VEVENT
DTSTART;TZID=Europe/Paris:20260209T173000
DTEND;TZID=Europe/Paris:20260209T190000
DTSTAMP:20260425T054137
CREATED:20250814T173137Z
LAST-MODIFIED:20250814T173137Z
UID:10000063-1770658200-1770663600@cambridgetennis.org
SUMMARY:Women's Doubles 3.0+
DESCRIPTION:
URL:https://cambridgetennis.org/social-tournament-events/womens-doubles-3-0/2026-02-09/
END:VEVENT
BEGIN:VEVENT
DTSTART;TZID=Europe/Paris:20260210T183000
DTEND;TZID=Europe/Paris:20260210T200000
DTSTAMP:20260425T054137
CREATED:20250814T173303Z
LAST-MODIFIED:20250814T173303Z
UID:10000325-1770748200-1770753600@cambridgetennis.org
SUMMARY:Groundstrokes
DESCRIPTION:
URL:https://cambridgetennis.org/social-tournament-events/groundstrokes/2026-02-10/
END:VEVENT
BEGIN:VEVENT
DTSTART;TZID=Europe/Paris:20260211T073000
DTEND;TZID=Europe/Paris:20260211T090000
DTSTAMP:20260425T054137
CREATED:20250814T173459Z
LAST-MODIFIED:20250814T173459Z
UID:10000640-1770795000-1770800400@cambridgetennis.org
SUMMARY:Breakfast Club
DESCRIPTION:
URL:https://cambridgetennis.org/social-tournament-events/breakfast-club-2/2026-02-11/
END:VEVENT
BEGIN:VEVENT
DTSTART;TZID=Europe/Paris:20260213T073000
DTEND;TZID=Europe/Paris:20260213T090000
DTSTAMP:20260425T054137
CREATED:20250814T173459Z
LAST-MODIFIED:20250814T173459Z
UID:10000641-1770967800-1770973200@cambridgetennis.org
SUMMARY:Breakfast Club
DESCRIPTION:
URL:https://cambridgetennis.org/social-tournament-events/breakfast-club-2/2026-02-13/
END:VEVENT
END:VCALENDAR