BEGIN:VCALENDAR
VERSION:2.0
PRODID:-//Cambridge Tennis Club - ECPv6.15.20//NONSGML v1.0//EN
CALSCALE:GREGORIAN
METHOD:PUBLISH
X-ORIGINAL-URL:https://cambridgetennis.org
X-WR-CALDESC:Events for Cambridge Tennis Club
REFRESH-INTERVAL;VALUE=DURATION:PT1H
X-Robots-Tag:noindex
X-PUBLISHED-TTL:PT1H
BEGIN:VTIMEZONE
TZID:Europe/Paris
BEGIN:DAYLIGHT
TZOFFSETFROM:+0100
TZOFFSETTO:+0200
TZNAME:CEST
DTSTART:20240331T010000
END:DAYLIGHT
BEGIN:STANDARD
TZOFFSETFROM:+0200
TZOFFSETTO:+0100
TZNAME:CET
DTSTART:20241027T010000
END:STANDARD
BEGIN:DAYLIGHT
TZOFFSETFROM:+0100
TZOFFSETTO:+0200
TZNAME:CEST
DTSTART:20250330T010000
END:DAYLIGHT
BEGIN:STANDARD
TZOFFSETFROM:+0200
TZOFFSETTO:+0100
TZNAME:CET
DTSTART:20251026T010000
END:STANDARD
BEGIN:DAYLIGHT
TZOFFSETFROM:+0100
TZOFFSETTO:+0200
TZNAME:CEST
DTSTART:20260329T010000
END:DAYLIGHT
BEGIN:STANDARD
TZOFFSETFROM:+0200
TZOFFSETTO:+0100
TZNAME:CET
DTSTART:20261025T010000
END:STANDARD
END:VTIMEZONE
BEGIN:VEVENT
DTSTART;VALUE=DATE:20251102
DTEND;VALUE=DATE:20251103
DTSTAMP:20260425T055301
CREATED:20251101T194844Z
LAST-MODIFIED:20251101T194844Z
UID:10002840-1762041600-1762127999@cambridgetennis.org
SUMMARY:Last Day Get-Together
DESCRIPTION:Last Day of Play and Get-Together from 4:00-6:00pm
URL:https://cambridgetennis.org/social-tournament-events/last-day-get-together/
END:VEVENT
BEGIN:VEVENT
DTSTART;VALUE=DATE:20251102
DTEND;VALUE=DATE:20251103
DTSTAMP:20260425T055301
CREATED:20251001T140125Z
LAST-MODIFIED:20251001T140125Z
UID:10002839-1762041600-1762127999@cambridgetennis.org
SUMMARY:Last Day of the Season Social
DESCRIPTION:Time to be announced
URL:https://cambridgetennis.org/social-tournament-events/last-day-of-the-season-social/
END:VEVENT
BEGIN:VEVENT
DTSTART;TZID=Europe/Paris:20251103T073000
DTEND;TZID=Europe/Paris:20251103T090000
DTSTAMP:20260425T055301
CREATED:20250814T173459Z
LAST-MODIFIED:20250814T173459Z
UID:10000597-1762155000-1762160400@cambridgetennis.org
SUMMARY:Breakfast Club
DESCRIPTION:
URL:https://cambridgetennis.org/social-tournament-events/breakfast-club-2/2025-11-03/
END:VEVENT
BEGIN:VEVENT
DTSTART;TZID=Europe/Paris:20251103T173000
DTEND;TZID=Europe/Paris:20251103T190000
DTSTAMP:20260425T055301
CREATED:20250814T173137Z
LAST-MODIFIED:20250814T173137Z
UID:10000049-1762191000-1762196400@cambridgetennis.org
SUMMARY:Women's Doubles 3.0+
DESCRIPTION:
URL:https://cambridgetennis.org/social-tournament-events/womens-doubles-3-0/2025-11-03/
END:VEVENT
BEGIN:VEVENT
DTSTART;TZID=Europe/Paris:20251104T183000
DTEND;TZID=Europe/Paris:20251104T200000
DTSTAMP:20260425T055301
CREATED:20250814T173303Z
LAST-MODIFIED:20250814T173303Z
UID:10000311-1762281000-1762286400@cambridgetennis.org
SUMMARY:Groundstrokes
DESCRIPTION:
URL:https://cambridgetennis.org/social-tournament-events/groundstrokes/2025-11-04/
END:VEVENT
BEGIN:VEVENT
DTSTART;TZID=Europe/Paris:20251105T073000
DTEND;TZID=Europe/Paris:20251105T090000
DTSTAMP:20260425T055301
CREATED:20250814T173459Z
LAST-MODIFIED:20250814T173459Z
UID:10000598-1762327800-1762333200@cambridgetennis.org
SUMMARY:Breakfast Club
DESCRIPTION:
URL:https://cambridgetennis.org/social-tournament-events/breakfast-club-2/2025-11-05/
END:VEVENT
BEGIN:VEVENT
DTSTART;TZID=Europe/Paris:20251107T073000
DTEND;TZID=Europe/Paris:20251107T090000
DTSTAMP:20260425T055301
CREATED:20250814T173459Z
LAST-MODIFIED:20250814T173459Z
UID:10000599-1762500600-1762506000@cambridgetennis.org
SUMMARY:Breakfast Club
DESCRIPTION:
URL:https://cambridgetennis.org/social-tournament-events/breakfast-club-2/2025-11-07/
END:VEVENT
BEGIN:VEVENT
DTSTART;TZID=Europe/Paris:20251110T073000
DTEND;TZID=Europe/Paris:20251110T090000
DTSTAMP:20260425T055301
CREATED:20250814T173459Z
LAST-MODIFIED:20250814T173459Z
UID:10000600-1762759800-1762765200@cambridgetennis.org
SUMMARY:Breakfast Club
DESCRIPTION:
URL:https://cambridgetennis.org/social-tournament-events/breakfast-club-2/2025-11-10/
END:VEVENT
BEGIN:VEVENT
DTSTART;TZID=Europe/Paris:20251110T173000
DTEND;TZID=Europe/Paris:20251110T190000
DTSTAMP:20260425T055301
CREATED:20250814T173137Z
LAST-MODIFIED:20250814T173137Z
UID:10000050-1762795800-1762801200@cambridgetennis.org
SUMMARY:Women's Doubles 3.0+
DESCRIPTION:
URL:https://cambridgetennis.org/social-tournament-events/womens-doubles-3-0/2025-11-10/
END:VEVENT
BEGIN:VEVENT
DTSTART;TZID=Europe/Paris:20251111T183000
DTEND;TZID=Europe/Paris:20251111T200000
DTSTAMP:20260425T055301
CREATED:20250814T173303Z
LAST-MODIFIED:20250814T173303Z
UID:10000312-1762885800-1762891200@cambridgetennis.org
SUMMARY:Groundstrokes
DESCRIPTION:
URL:https://cambridgetennis.org/social-tournament-events/groundstrokes/2025-11-11/
END:VEVENT
BEGIN:VEVENT
DTSTART;TZID=Europe/Paris:20251112T073000
DTEND;TZID=Europe/Paris:20251112T090000
DTSTAMP:20260425T055301
CREATED:20250814T173459Z
LAST-MODIFIED:20250814T173459Z
UID:10000601-1762932600-1762938000@cambridgetennis.org
SUMMARY:Breakfast Club
DESCRIPTION:
URL:https://cambridgetennis.org/social-tournament-events/breakfast-club-2/2025-11-12/
END:VEVENT
BEGIN:VEVENT
DTSTART;TZID=Europe/Paris:20251114T073000
DTEND;TZID=Europe/Paris:20251114T090000
DTSTAMP:20260425T055301
CREATED:20250814T173459Z
LAST-MODIFIED:20250814T173459Z
UID:10000602-1763105400-1763110800@cambridgetennis.org
SUMMARY:Breakfast Club
DESCRIPTION:
URL:https://cambridgetennis.org/social-tournament-events/breakfast-club-2/2025-11-14/
END:VEVENT
BEGIN:VEVENT
DTSTART;TZID=Europe/Paris:20251117T073000
DTEND;TZID=Europe/Paris:20251117T090000
DTSTAMP:20260425T055301
CREATED:20250814T173459Z
LAST-MODIFIED:20250814T173459Z
UID:10000603-1763364600-1763370000@cambridgetennis.org
SUMMARY:Breakfast Club
DESCRIPTION:
URL:https://cambridgetennis.org/social-tournament-events/breakfast-club-2/2025-11-17/
END:VEVENT
BEGIN:VEVENT
DTSTART;TZID=Europe/Paris:20251117T173000
DTEND;TZID=Europe/Paris:20251117T190000
DTSTAMP:20260425T055301
CREATED:20250814T173137Z
LAST-MODIFIED:20250814T173137Z
UID:10000051-1763400600-1763406000@cambridgetennis.org
SUMMARY:Women's Doubles 3.0+
DESCRIPTION:
URL:https://cambridgetennis.org/social-tournament-events/womens-doubles-3-0/2025-11-17/
END:VEVENT
BEGIN:VEVENT
DTSTART;TZID=Europe/Paris:20251118T183000
DTEND;TZID=Europe/Paris:20251118T200000
DTSTAMP:20260425T055301
CREATED:20250814T173303Z
LAST-MODIFIED:20250814T173303Z
UID:10000313-1763490600-1763496000@cambridgetennis.org
SUMMARY:Groundstrokes
DESCRIPTION:
URL:https://cambridgetennis.org/social-tournament-events/groundstrokes/2025-11-18/
END:VEVENT
BEGIN:VEVENT
DTSTART;TZID=Europe/Paris:20251119T073000
DTEND;TZID=Europe/Paris:20251119T090000
DTSTAMP:20260425T055301
CREATED:20250814T173459Z
LAST-MODIFIED:20250814T173459Z
UID:10000604-1763537400-1763542800@cambridgetennis.org
SUMMARY:Breakfast Club
DESCRIPTION:
URL:https://cambridgetennis.org/social-tournament-events/breakfast-club-2/2025-11-19/
END:VEVENT
BEGIN:VEVENT
DTSTART;TZID=Europe/Paris:20251121T073000
DTEND;TZID=Europe/Paris:20251121T090000
DTSTAMP:20260425T055301
CREATED:20250814T173459Z
LAST-MODIFIED:20250814T173459Z
UID:10000605-1763710200-1763715600@cambridgetennis.org
SUMMARY:Breakfast Club
DESCRIPTION:
URL:https://cambridgetennis.org/social-tournament-events/breakfast-club-2/2025-11-21/
END:VEVENT
BEGIN:VEVENT
DTSTART;TZID=Europe/Paris:20251124T073000
DTEND;TZID=Europe/Paris:20251124T090000
DTSTAMP:20260425T055301
CREATED:20250814T173459Z
LAST-MODIFIED:20250814T173459Z
UID:10000606-1763969400-1763974800@cambridgetennis.org
SUMMARY:Breakfast Club
DESCRIPTION:
URL:https://cambridgetennis.org/social-tournament-events/breakfast-club-2/2025-11-24/
END:VEVENT
BEGIN:VEVENT
DTSTART;TZID=Europe/Paris:20251124T173000
DTEND;TZID=Europe/Paris:20251124T190000
DTSTAMP:20260425T055301
CREATED:20250814T173137Z
LAST-MODIFIED:20250814T173137Z
UID:10000052-1764005400-1764010800@cambridgetennis.org
SUMMARY:Women's Doubles 3.0+
DESCRIPTION:
URL:https://cambridgetennis.org/social-tournament-events/womens-doubles-3-0/2025-11-24/
END:VEVENT
BEGIN:VEVENT
DTSTART;TZID=Europe/Paris:20251125T183000
DTEND;TZID=Europe/Paris:20251125T200000
DTSTAMP:20260425T055301
CREATED:20250814T173303Z
LAST-MODIFIED:20250814T173303Z
UID:10000314-1764095400-1764100800@cambridgetennis.org
SUMMARY:Groundstrokes
DESCRIPTION:
URL:https://cambridgetennis.org/social-tournament-events/groundstrokes/2025-11-25/
END:VEVENT
BEGIN:VEVENT
DTSTART;TZID=Europe/Paris:20251126T073000
DTEND;TZID=Europe/Paris:20251126T090000
DTSTAMP:20260425T055301
CREATED:20250814T173459Z
LAST-MODIFIED:20250814T173459Z
UID:10000607-1764142200-1764147600@cambridgetennis.org
SUMMARY:Breakfast Club
DESCRIPTION:
URL:https://cambridgetennis.org/social-tournament-events/breakfast-club-2/2025-11-26/
END:VEVENT
BEGIN:VEVENT
DTSTART;TZID=Europe/Paris:20251128T073000
DTEND;TZID=Europe/Paris:20251128T090000
DTSTAMP:20260425T055301
CREATED:20250814T173459Z
LAST-MODIFIED:20250814T173459Z
UID:10000608-1764315000-1764320400@cambridgetennis.org
SUMMARY:Breakfast Club
DESCRIPTION:
URL:https://cambridgetennis.org/social-tournament-events/breakfast-club-2/2025-11-28/
END:VEVENT
BEGIN:VEVENT
DTSTART;TZID=Europe/Paris:20251201T073000
DTEND;TZID=Europe/Paris:20251201T090000
DTSTAMP:20260425T055301
CREATED:20250814T173459Z
LAST-MODIFIED:20250814T173459Z
UID:10000609-1764574200-1764579600@cambridgetennis.org
SUMMARY:Breakfast Club
DESCRIPTION:
URL:https://cambridgetennis.org/social-tournament-events/breakfast-club-2/2025-12-01/
END:VEVENT
BEGIN:VEVENT
DTSTART;TZID=Europe/Paris:20251201T173000
DTEND;TZID=Europe/Paris:20251201T190000
DTSTAMP:20260425T055301
CREATED:20250814T173137Z
LAST-MODIFIED:20250814T173137Z
UID:10000053-1764610200-1764615600@cambridgetennis.org
SUMMARY:Women's Doubles 3.0+
DESCRIPTION:
URL:https://cambridgetennis.org/social-tournament-events/womens-doubles-3-0/2025-12-01/
END:VEVENT
BEGIN:VEVENT
DTSTART;TZID=Europe/Paris:20251202T183000
DTEND;TZID=Europe/Paris:20251202T200000
DTSTAMP:20260425T055301
CREATED:20250814T173303Z
LAST-MODIFIED:20250814T173303Z
UID:10000315-1764700200-1764705600@cambridgetennis.org
SUMMARY:Groundstrokes
DESCRIPTION:
URL:https://cambridgetennis.org/social-tournament-events/groundstrokes/2025-12-02/
END:VEVENT
BEGIN:VEVENT
DTSTART;TZID=Europe/Paris:20251203T073000
DTEND;TZID=Europe/Paris:20251203T090000
DTSTAMP:20260425T055301
CREATED:20250814T173459Z
LAST-MODIFIED:20250814T173459Z
UID:10000610-1764747000-1764752400@cambridgetennis.org
SUMMARY:Breakfast Club
DESCRIPTION:
URL:https://cambridgetennis.org/social-tournament-events/breakfast-club-2/2025-12-03/
END:VEVENT
BEGIN:VEVENT
DTSTART;TZID=Europe/Paris:20251205T073000
DTEND;TZID=Europe/Paris:20251205T090000
DTSTAMP:20260425T055301
CREATED:20250814T173459Z
LAST-MODIFIED:20250814T173459Z
UID:10000611-1764919800-1764925200@cambridgetennis.org
SUMMARY:Breakfast Club
DESCRIPTION:
URL:https://cambridgetennis.org/social-tournament-events/breakfast-club-2/2025-12-05/
END:VEVENT
BEGIN:VEVENT
DTSTART;TZID=Europe/Paris:20251208T073000
DTEND;TZID=Europe/Paris:20251208T090000
DTSTAMP:20260425T055301
CREATED:20250814T173459Z
LAST-MODIFIED:20250814T173459Z
UID:10000612-1765179000-1765184400@cambridgetennis.org
SUMMARY:Breakfast Club
DESCRIPTION:
URL:https://cambridgetennis.org/social-tournament-events/breakfast-club-2/2025-12-08/
END:VEVENT
BEGIN:VEVENT
DTSTART;TZID=Europe/Paris:20251208T173000
DTEND;TZID=Europe/Paris:20251208T190000
DTSTAMP:20260425T055301
CREATED:20250814T173137Z
LAST-MODIFIED:20250814T173137Z
UID:10000054-1765215000-1765220400@cambridgetennis.org
SUMMARY:Women's Doubles 3.0+
DESCRIPTION:
URL:https://cambridgetennis.org/social-tournament-events/womens-doubles-3-0/2025-12-08/
END:VEVENT
BEGIN:VEVENT
DTSTART;TZID=Europe/Paris:20251209T183000
DTEND;TZID=Europe/Paris:20251209T200000
DTSTAMP:20260425T055301
CREATED:20250814T173303Z
LAST-MODIFIED:20250814T173303Z
UID:10000316-1765305000-1765310400@cambridgetennis.org
SUMMARY:Groundstrokes
DESCRIPTION:
URL:https://cambridgetennis.org/social-tournament-events/groundstrokes/2025-12-09/
END:VEVENT
END:VCALENDAR