BEGIN:VCALENDAR
VERSION:2.0
PRODID:-//Cambridge Tennis Club - ECPv6.15.20//NONSGML v1.0//EN
CALSCALE:GREGORIAN
METHOD:PUBLISH
X-ORIGINAL-URL:https://cambridgetennis.org
X-WR-CALDESC:Events for Cambridge Tennis Club
REFRESH-INTERVAL;VALUE=DURATION:PT1H
X-Robots-Tag:noindex
X-PUBLISHED-TTL:PT1H
BEGIN:VTIMEZONE
TZID:Europe/Paris
BEGIN:DAYLIGHT
TZOFFSETFROM:+0100
TZOFFSETTO:+0200
TZNAME:CEST
DTSTART:20250330T010000
END:DAYLIGHT
BEGIN:STANDARD
TZOFFSETFROM:+0200
TZOFFSETTO:+0100
TZNAME:CET
DTSTART:20251026T010000
END:STANDARD
BEGIN:DAYLIGHT
TZOFFSETFROM:+0100
TZOFFSETTO:+0200
TZNAME:CEST
DTSTART:20260329T010000
END:DAYLIGHT
BEGIN:STANDARD
TZOFFSETFROM:+0200
TZOFFSETTO:+0100
TZNAME:CET
DTSTART:20261025T010000
END:STANDARD
BEGIN:DAYLIGHT
TZOFFSETFROM:+0100
TZOFFSETTO:+0200
TZNAME:CEST
DTSTART:20270328T010000
END:DAYLIGHT
BEGIN:STANDARD
TZOFFSETFROM:+0200
TZOFFSETTO:+0100
TZNAME:CET
DTSTART:20271031T010000
END:STANDARD
END:VTIMEZONE
BEGIN:VEVENT
DTSTART;TZID=Europe/Paris:20260710T073000
DTEND;TZID=Europe/Paris:20260710T090000
DTSTAMP:20260425T044303
CREATED:20250814T173459Z
LAST-MODIFIED:20250814T173459Z
UID:10000704-1783668600-1783674000@cambridgetennis.org
SUMMARY:Breakfast Club
DESCRIPTION:
URL:https://cambridgetennis.org/social-tournament-events/breakfast-club-2/2026-07-10/
END:VEVENT
BEGIN:VEVENT
DTSTART;TZID=Europe/Paris:20260713T073000
DTEND;TZID=Europe/Paris:20260713T090000
DTSTAMP:20260425T044303
CREATED:20250814T173459Z
LAST-MODIFIED:20250814T173459Z
UID:10000705-1783927800-1783933200@cambridgetennis.org
SUMMARY:Breakfast Club
DESCRIPTION:
URL:https://cambridgetennis.org/social-tournament-events/breakfast-club-2/2026-07-13/
END:VEVENT
BEGIN:VEVENT
DTSTART;TZID=Europe/Paris:20260713T173000
DTEND;TZID=Europe/Paris:20260713T190000
DTSTAMP:20260425T044303
CREATED:20250814T173137Z
LAST-MODIFIED:20250814T173137Z
UID:10000085-1783963800-1783969200@cambridgetennis.org
SUMMARY:Women's Doubles 3.0+
DESCRIPTION:
URL:https://cambridgetennis.org/social-tournament-events/womens-doubles-3-0/2026-07-13/
END:VEVENT
BEGIN:VEVENT
DTSTART;TZID=Europe/Paris:20260714T183000
DTEND;TZID=Europe/Paris:20260714T200000
DTSTAMP:20260425T044303
CREATED:20250814T173303Z
LAST-MODIFIED:20250814T173303Z
UID:10000347-1784053800-1784059200@cambridgetennis.org
SUMMARY:Groundstrokes
DESCRIPTION:
URL:https://cambridgetennis.org/social-tournament-events/groundstrokes/2026-07-14/
END:VEVENT
BEGIN:VEVENT
DTSTART;TZID=Europe/Paris:20260715T073000
DTEND;TZID=Europe/Paris:20260715T090000
DTSTAMP:20260425T044303
CREATED:20250814T173459Z
LAST-MODIFIED:20250814T173459Z
UID:10000706-1784100600-1784106000@cambridgetennis.org
SUMMARY:Breakfast Club
DESCRIPTION:
URL:https://cambridgetennis.org/social-tournament-events/breakfast-club-2/2026-07-15/
END:VEVENT
BEGIN:VEVENT
DTSTART;TZID=Europe/Paris:20260717T073000
DTEND;TZID=Europe/Paris:20260717T090000
DTSTAMP:20260425T044303
CREATED:20250814T173459Z
LAST-MODIFIED:20250814T173459Z
UID:10000707-1784273400-1784278800@cambridgetennis.org
SUMMARY:Breakfast Club
DESCRIPTION:
URL:https://cambridgetennis.org/social-tournament-events/breakfast-club-2/2026-07-17/
END:VEVENT
BEGIN:VEVENT
DTSTART;TZID=Europe/Paris:20260720T073000
DTEND;TZID=Europe/Paris:20260720T090000
DTSTAMP:20260425T044303
CREATED:20250814T173459Z
LAST-MODIFIED:20250814T173459Z
UID:10000708-1784532600-1784538000@cambridgetennis.org
SUMMARY:Breakfast Club
DESCRIPTION:
URL:https://cambridgetennis.org/social-tournament-events/breakfast-club-2/2026-07-20/
END:VEVENT
BEGIN:VEVENT
DTSTART;TZID=Europe/Paris:20260720T173000
DTEND;TZID=Europe/Paris:20260720T190000
DTSTAMP:20260425T044303
CREATED:20250814T173137Z
LAST-MODIFIED:20250814T173137Z
UID:10000086-1784568600-1784574000@cambridgetennis.org
SUMMARY:Women's Doubles 3.0+
DESCRIPTION:
URL:https://cambridgetennis.org/social-tournament-events/womens-doubles-3-0/2026-07-20/
END:VEVENT
BEGIN:VEVENT
DTSTART;TZID=Europe/Paris:20260721T183000
DTEND;TZID=Europe/Paris:20260721T200000
DTSTAMP:20260425T044303
CREATED:20250814T173303Z
LAST-MODIFIED:20250814T173303Z
UID:10000348-1784658600-1784664000@cambridgetennis.org
SUMMARY:Groundstrokes
DESCRIPTION:
URL:https://cambridgetennis.org/social-tournament-events/groundstrokes/2026-07-21/
END:VEVENT
BEGIN:VEVENT
DTSTART;TZID=Europe/Paris:20260722T073000
DTEND;TZID=Europe/Paris:20260722T090000
DTSTAMP:20260425T044303
CREATED:20250814T173459Z
LAST-MODIFIED:20250814T173459Z
UID:10000709-1784705400-1784710800@cambridgetennis.org
SUMMARY:Breakfast Club
DESCRIPTION:
URL:https://cambridgetennis.org/social-tournament-events/breakfast-club-2/2026-07-22/
END:VEVENT
BEGIN:VEVENT
DTSTART;TZID=Europe/Paris:20260724T073000
DTEND;TZID=Europe/Paris:20260724T090000
DTSTAMP:20260425T044303
CREATED:20250814T173459Z
LAST-MODIFIED:20250814T173459Z
UID:10000710-1784878200-1784883600@cambridgetennis.org
SUMMARY:Breakfast Club
DESCRIPTION:
URL:https://cambridgetennis.org/social-tournament-events/breakfast-club-2/2026-07-24/
END:VEVENT
BEGIN:VEVENT
DTSTART;TZID=Europe/Paris:20260727T073000
DTEND;TZID=Europe/Paris:20260727T090000
DTSTAMP:20260425T044303
CREATED:20250814T173459Z
LAST-MODIFIED:20250814T173459Z
UID:10000711-1785137400-1785142800@cambridgetennis.org
SUMMARY:Breakfast Club
DESCRIPTION:
URL:https://cambridgetennis.org/social-tournament-events/breakfast-club-2/2026-07-27/
END:VEVENT
BEGIN:VEVENT
DTSTART;TZID=Europe/Paris:20260727T173000
DTEND;TZID=Europe/Paris:20260727T190000
DTSTAMP:20260425T044303
CREATED:20250814T173137Z
LAST-MODIFIED:20250814T173137Z
UID:10000087-1785173400-1785178800@cambridgetennis.org
SUMMARY:Women's Doubles 3.0+
DESCRIPTION:
URL:https://cambridgetennis.org/social-tournament-events/womens-doubles-3-0/2026-07-27/
END:VEVENT
BEGIN:VEVENT
DTSTART;TZID=Europe/Paris:20260728T183000
DTEND;TZID=Europe/Paris:20260728T200000
DTSTAMP:20260425T044303
CREATED:20250814T173303Z
LAST-MODIFIED:20250814T173303Z
UID:10000349-1785263400-1785268800@cambridgetennis.org
SUMMARY:Groundstrokes
DESCRIPTION:
URL:https://cambridgetennis.org/social-tournament-events/groundstrokes/2026-07-28/
END:VEVENT
BEGIN:VEVENT
DTSTART;TZID=Europe/Paris:20260729T073000
DTEND;TZID=Europe/Paris:20260729T090000
DTSTAMP:20260425T044303
CREATED:20250814T173459Z
LAST-MODIFIED:20250814T173459Z
UID:10000712-1785310200-1785315600@cambridgetennis.org
SUMMARY:Breakfast Club
DESCRIPTION:
URL:https://cambridgetennis.org/social-tournament-events/breakfast-club-2/2026-07-29/
END:VEVENT
BEGIN:VEVENT
DTSTART;TZID=Europe/Paris:20260731T073000
DTEND;TZID=Europe/Paris:20260731T090000
DTSTAMP:20260425T044303
CREATED:20250814T173459Z
LAST-MODIFIED:20250814T173459Z
UID:10000713-1785483000-1785488400@cambridgetennis.org
SUMMARY:Breakfast Club
DESCRIPTION:
URL:https://cambridgetennis.org/social-tournament-events/breakfast-club-2/2026-07-31/
END:VEVENT
BEGIN:VEVENT
DTSTART;TZID=Europe/Paris:20260803T073000
DTEND;TZID=Europe/Paris:20260803T090000
DTSTAMP:20260425T044303
CREATED:20250814T173459Z
LAST-MODIFIED:20250814T173459Z
UID:10000714-1785742200-1785747600@cambridgetennis.org
SUMMARY:Breakfast Club
DESCRIPTION:
URL:https://cambridgetennis.org/social-tournament-events/breakfast-club-2/2026-08-03/
END:VEVENT
BEGIN:VEVENT
DTSTART;TZID=Europe/Paris:20260803T173000
DTEND;TZID=Europe/Paris:20260803T190000
DTSTAMP:20260425T044303
CREATED:20250814T173137Z
LAST-MODIFIED:20250814T173137Z
UID:10000088-1785778200-1785783600@cambridgetennis.org
SUMMARY:Women's Doubles 3.0+
DESCRIPTION:
URL:https://cambridgetennis.org/social-tournament-events/womens-doubles-3-0/2026-08-03/
END:VEVENT
BEGIN:VEVENT
DTSTART;TZID=Europe/Paris:20260804T183000
DTEND;TZID=Europe/Paris:20260804T200000
DTSTAMP:20260425T044303
CREATED:20250814T173303Z
LAST-MODIFIED:20250814T173303Z
UID:10000350-1785868200-1785873600@cambridgetennis.org
SUMMARY:Groundstrokes
DESCRIPTION:
URL:https://cambridgetennis.org/social-tournament-events/groundstrokes/2026-08-04/
END:VEVENT
BEGIN:VEVENT
DTSTART;TZID=Europe/Paris:20260805T073000
DTEND;TZID=Europe/Paris:20260805T090000
DTSTAMP:20260425T044303
CREATED:20250814T173459Z
LAST-MODIFIED:20250814T173459Z
UID:10000715-1785915000-1785920400@cambridgetennis.org
SUMMARY:Breakfast Club
DESCRIPTION:
URL:https://cambridgetennis.org/social-tournament-events/breakfast-club-2/2026-08-05/
END:VEVENT
BEGIN:VEVENT
DTSTART;TZID=Europe/Paris:20260807T073000
DTEND;TZID=Europe/Paris:20260807T090000
DTSTAMP:20260425T044303
CREATED:20250814T173459Z
LAST-MODIFIED:20250814T173459Z
UID:10000716-1786087800-1786093200@cambridgetennis.org
SUMMARY:Breakfast Club
DESCRIPTION:
URL:https://cambridgetennis.org/social-tournament-events/breakfast-club-2/2026-08-07/
END:VEVENT
BEGIN:VEVENT
DTSTART;TZID=Europe/Paris:20260810T073000
DTEND;TZID=Europe/Paris:20260810T090000
DTSTAMP:20260425T044303
CREATED:20250814T173459Z
LAST-MODIFIED:20250814T173459Z
UID:10000717-1786347000-1786352400@cambridgetennis.org
SUMMARY:Breakfast Club
DESCRIPTION:
URL:https://cambridgetennis.org/social-tournament-events/breakfast-club-2/2026-08-10/
END:VEVENT
BEGIN:VEVENT
DTSTART;TZID=Europe/Paris:20260810T173000
DTEND;TZID=Europe/Paris:20260810T190000
DTSTAMP:20260425T044303
CREATED:20250814T173137Z
LAST-MODIFIED:20250814T173137Z
UID:10000089-1786383000-1786388400@cambridgetennis.org
SUMMARY:Women's Doubles 3.0+
DESCRIPTION:
URL:https://cambridgetennis.org/social-tournament-events/womens-doubles-3-0/2026-08-10/
END:VEVENT
BEGIN:VEVENT
DTSTART;TZID=Europe/Paris:20260811T183000
DTEND;TZID=Europe/Paris:20260811T200000
DTSTAMP:20260425T044303
CREATED:20250814T173303Z
LAST-MODIFIED:20250814T173303Z
UID:10000351-1786473000-1786478400@cambridgetennis.org
SUMMARY:Groundstrokes
DESCRIPTION:
URL:https://cambridgetennis.org/social-tournament-events/groundstrokes/2026-08-11/
END:VEVENT
BEGIN:VEVENT
DTSTART;TZID=Europe/Paris:20260812T073000
DTEND;TZID=Europe/Paris:20260812T090000
DTSTAMP:20260425T044303
CREATED:20250814T173459Z
LAST-MODIFIED:20250814T173459Z
UID:10000718-1786519800-1786525200@cambridgetennis.org
SUMMARY:Breakfast Club
DESCRIPTION:
URL:https://cambridgetennis.org/social-tournament-events/breakfast-club-2/2026-08-12/
END:VEVENT
BEGIN:VEVENT
DTSTART;TZID=Europe/Paris:20260814T073000
DTEND;TZID=Europe/Paris:20260814T090000
DTSTAMP:20260425T044303
CREATED:20250814T173459Z
LAST-MODIFIED:20250814T173459Z
UID:10000719-1786692600-1786698000@cambridgetennis.org
SUMMARY:Breakfast Club
DESCRIPTION:
URL:https://cambridgetennis.org/social-tournament-events/breakfast-club-2/2026-08-14/
END:VEVENT
BEGIN:VEVENT
DTSTART;TZID=Europe/Paris:20260817T073000
DTEND;TZID=Europe/Paris:20260817T090000
DTSTAMP:20260425T044303
CREATED:20250814T173459Z
LAST-MODIFIED:20250814T173459Z
UID:10000720-1786951800-1786957200@cambridgetennis.org
SUMMARY:Breakfast Club
DESCRIPTION:
URL:https://cambridgetennis.org/social-tournament-events/breakfast-club-2/2026-08-17/
END:VEVENT
BEGIN:VEVENT
DTSTART;TZID=Europe/Paris:20260817T173000
DTEND;TZID=Europe/Paris:20260817T190000
DTSTAMP:20260425T044303
CREATED:20250814T173137Z
LAST-MODIFIED:20250814T173137Z
UID:10000090-1786987800-1786993200@cambridgetennis.org
SUMMARY:Women's Doubles 3.0+
DESCRIPTION:
URL:https://cambridgetennis.org/social-tournament-events/womens-doubles-3-0/2026-08-17/
END:VEVENT
BEGIN:VEVENT
DTSTART;TZID=Europe/Paris:20260818T183000
DTEND;TZID=Europe/Paris:20260818T200000
DTSTAMP:20260425T044303
CREATED:20250814T173303Z
LAST-MODIFIED:20250814T173303Z
UID:10000352-1787077800-1787083200@cambridgetennis.org
SUMMARY:Groundstrokes
DESCRIPTION:
URL:https://cambridgetennis.org/social-tournament-events/groundstrokes/2026-08-18/
END:VEVENT
BEGIN:VEVENT
DTSTART;TZID=Europe/Paris:20260819T073000
DTEND;TZID=Europe/Paris:20260819T090000
DTSTAMP:20260425T044303
CREATED:20250814T173459Z
LAST-MODIFIED:20250814T173459Z
UID:10000721-1787124600-1787130000@cambridgetennis.org
SUMMARY:Breakfast Club
DESCRIPTION:
URL:https://cambridgetennis.org/social-tournament-events/breakfast-club-2/2026-08-19/
END:VEVENT
END:VCALENDAR