BEGIN:VCALENDAR
VERSION:2.0
PRODID:-//Cambridge Tennis Club - ECPv6.15.20//NONSGML v1.0//EN
CALSCALE:GREGORIAN
METHOD:PUBLISH
X-ORIGINAL-URL:https://cambridgetennis.org
X-WR-CALDESC:Events for Cambridge Tennis Club
REFRESH-INTERVAL;VALUE=DURATION:PT1H
X-Robots-Tag:noindex
X-PUBLISHED-TTL:PT1H
BEGIN:VTIMEZONE
TZID:Europe/Paris
BEGIN:DAYLIGHT
TZOFFSETFROM:+0100
TZOFFSETTO:+0200
TZNAME:CEST
DTSTART:20250330T010000
END:DAYLIGHT
BEGIN:STANDARD
TZOFFSETFROM:+0200
TZOFFSETTO:+0100
TZNAME:CET
DTSTART:20251026T010000
END:STANDARD
BEGIN:DAYLIGHT
TZOFFSETFROM:+0100
TZOFFSETTO:+0200
TZNAME:CEST
DTSTART:20260329T010000
END:DAYLIGHT
BEGIN:STANDARD
TZOFFSETFROM:+0200
TZOFFSETTO:+0100
TZNAME:CET
DTSTART:20261025T010000
END:STANDARD
BEGIN:DAYLIGHT
TZOFFSETFROM:+0100
TZOFFSETTO:+0200
TZNAME:CEST
DTSTART:20270328T010000
END:DAYLIGHT
BEGIN:STANDARD
TZOFFSETFROM:+0200
TZOFFSETTO:+0100
TZNAME:CET
DTSTART:20271031T010000
END:STANDARD
END:VTIMEZONE
BEGIN:VEVENT
DTSTART;TZID=Europe/Paris:20260930T073000
DTEND;TZID=Europe/Paris:20260930T090000
DTSTAMP:20260425T054321
CREATED:20250814T173459Z
LAST-MODIFIED:20250814T173459Z
UID:10000739-1790753400-1790758800@cambridgetennis.org
SUMMARY:Breakfast Club
DESCRIPTION:
URL:https://cambridgetennis.org/social-tournament-events/breakfast-club-2/2026-09-30/
END:VEVENT
BEGIN:VEVENT
DTSTART;TZID=Europe/Paris:20261002T073000
DTEND;TZID=Europe/Paris:20261002T090000
DTSTAMP:20260425T054321
CREATED:20250814T173459Z
LAST-MODIFIED:20250814T173459Z
UID:10000740-1790926200-1790931600@cambridgetennis.org
SUMMARY:Breakfast Club
DESCRIPTION:
URL:https://cambridgetennis.org/social-tournament-events/breakfast-club-2/2026-10-02/
END:VEVENT
BEGIN:VEVENT
DTSTART;TZID=Europe/Paris:20261005T073000
DTEND;TZID=Europe/Paris:20261005T090000
DTSTAMP:20260425T054321
CREATED:20250814T173459Z
LAST-MODIFIED:20250814T173459Z
UID:10000741-1791185400-1791190800@cambridgetennis.org
SUMMARY:Breakfast Club
DESCRIPTION:
URL:https://cambridgetennis.org/social-tournament-events/breakfast-club-2/2026-10-05/
END:VEVENT
BEGIN:VEVENT
DTSTART;TZID=Europe/Paris:20261005T173000
DTEND;TZID=Europe/Paris:20261005T190000
DTSTAMP:20260425T054321
CREATED:20250814T173137Z
LAST-MODIFIED:20250814T173137Z
UID:10000097-1791221400-1791226800@cambridgetennis.org
SUMMARY:Women's Doubles 3.0+
DESCRIPTION:
URL:https://cambridgetennis.org/social-tournament-events/womens-doubles-3-0/2026-10-05/
END:VEVENT
BEGIN:VEVENT
DTSTART;TZID=Europe/Paris:20261006T183000
DTEND;TZID=Europe/Paris:20261006T200000
DTSTAMP:20260425T054321
CREATED:20250814T173303Z
LAST-MODIFIED:20250814T173303Z
UID:10000359-1791311400-1791316800@cambridgetennis.org
SUMMARY:Groundstrokes
DESCRIPTION:
URL:https://cambridgetennis.org/social-tournament-events/groundstrokes/2026-10-06/
END:VEVENT
BEGIN:VEVENT
DTSTART;TZID=Europe/Paris:20261007T073000
DTEND;TZID=Europe/Paris:20261007T090000
DTSTAMP:20260425T054321
CREATED:20250814T173459Z
LAST-MODIFIED:20250814T173459Z
UID:10000742-1791358200-1791363600@cambridgetennis.org
SUMMARY:Breakfast Club
DESCRIPTION:
URL:https://cambridgetennis.org/social-tournament-events/breakfast-club-2/2026-10-07/
END:VEVENT
BEGIN:VEVENT
DTSTART;TZID=Europe/Paris:20261009T073000
DTEND;TZID=Europe/Paris:20261009T090000
DTSTAMP:20260425T054321
CREATED:20250814T173459Z
LAST-MODIFIED:20250814T173459Z
UID:10000743-1791531000-1791536400@cambridgetennis.org
SUMMARY:Breakfast Club
DESCRIPTION:
URL:https://cambridgetennis.org/social-tournament-events/breakfast-club-2/2026-10-09/
END:VEVENT
BEGIN:VEVENT
DTSTART;TZID=Europe/Paris:20261012T073000
DTEND;TZID=Europe/Paris:20261012T090000
DTSTAMP:20260425T054321
CREATED:20250814T173459Z
LAST-MODIFIED:20250814T173459Z
UID:10000744-1791790200-1791795600@cambridgetennis.org
SUMMARY:Breakfast Club
DESCRIPTION:
URL:https://cambridgetennis.org/social-tournament-events/breakfast-club-2/2026-10-12/
END:VEVENT
BEGIN:VEVENT
DTSTART;TZID=Europe/Paris:20261012T173000
DTEND;TZID=Europe/Paris:20261012T190000
DTSTAMP:20260425T054321
CREATED:20250814T173137Z
LAST-MODIFIED:20250814T173137Z
UID:10000098-1791826200-1791831600@cambridgetennis.org
SUMMARY:Women's Doubles 3.0+
DESCRIPTION:
URL:https://cambridgetennis.org/social-tournament-events/womens-doubles-3-0/2026-10-12/
END:VEVENT
BEGIN:VEVENT
DTSTART;TZID=Europe/Paris:20261013T183000
DTEND;TZID=Europe/Paris:20261013T200000
DTSTAMP:20260425T054321
CREATED:20250814T173303Z
LAST-MODIFIED:20250814T173303Z
UID:10000360-1791916200-1791921600@cambridgetennis.org
SUMMARY:Groundstrokes
DESCRIPTION:
URL:https://cambridgetennis.org/social-tournament-events/groundstrokes/2026-10-13/
END:VEVENT
BEGIN:VEVENT
DTSTART;TZID=Europe/Paris:20261014T073000
DTEND;TZID=Europe/Paris:20261014T090000
DTSTAMP:20260425T054321
CREATED:20250814T173459Z
LAST-MODIFIED:20250814T173459Z
UID:10000745-1791963000-1791968400@cambridgetennis.org
SUMMARY:Breakfast Club
DESCRIPTION:
URL:https://cambridgetennis.org/social-tournament-events/breakfast-club-2/2026-10-14/
END:VEVENT
BEGIN:VEVENT
DTSTART;TZID=Europe/Paris:20261016T073000
DTEND;TZID=Europe/Paris:20261016T090000
DTSTAMP:20260425T054321
CREATED:20250814T173459Z
LAST-MODIFIED:20250814T173459Z
UID:10000746-1792135800-1792141200@cambridgetennis.org
SUMMARY:Breakfast Club
DESCRIPTION:
URL:https://cambridgetennis.org/social-tournament-events/breakfast-club-2/2026-10-16/
END:VEVENT
BEGIN:VEVENT
DTSTART;TZID=Europe/Paris:20261019T073000
DTEND;TZID=Europe/Paris:20261019T090000
DTSTAMP:20260425T054321
CREATED:20250814T173459Z
LAST-MODIFIED:20250814T173459Z
UID:10000747-1792395000-1792400400@cambridgetennis.org
SUMMARY:Breakfast Club
DESCRIPTION:
URL:https://cambridgetennis.org/social-tournament-events/breakfast-club-2/2026-10-19/
END:VEVENT
BEGIN:VEVENT
DTSTART;TZID=Europe/Paris:20261019T173000
DTEND;TZID=Europe/Paris:20261019T190000
DTSTAMP:20260425T054321
CREATED:20250814T173137Z
LAST-MODIFIED:20250814T173137Z
UID:10000099-1792431000-1792436400@cambridgetennis.org
SUMMARY:Women's Doubles 3.0+
DESCRIPTION:
URL:https://cambridgetennis.org/social-tournament-events/womens-doubles-3-0/2026-10-19/
END:VEVENT
BEGIN:VEVENT
DTSTART;TZID=Europe/Paris:20261020T183000
DTEND;TZID=Europe/Paris:20261020T200000
DTSTAMP:20260425T054321
CREATED:20250814T173303Z
LAST-MODIFIED:20250814T173303Z
UID:10000361-1792521000-1792526400@cambridgetennis.org
SUMMARY:Groundstrokes
DESCRIPTION:
URL:https://cambridgetennis.org/social-tournament-events/groundstrokes/2026-10-20/
END:VEVENT
BEGIN:VEVENT
DTSTART;TZID=Europe/Paris:20261021T073000
DTEND;TZID=Europe/Paris:20261021T090000
DTSTAMP:20260425T054321
CREATED:20250814T173459Z
LAST-MODIFIED:20250814T173459Z
UID:10000748-1792567800-1792573200@cambridgetennis.org
SUMMARY:Breakfast Club
DESCRIPTION:
URL:https://cambridgetennis.org/social-tournament-events/breakfast-club-2/2026-10-21/
END:VEVENT
BEGIN:VEVENT
DTSTART;TZID=Europe/Paris:20261023T073000
DTEND;TZID=Europe/Paris:20261023T090000
DTSTAMP:20260425T054321
CREATED:20250814T173459Z
LAST-MODIFIED:20250814T173459Z
UID:10000749-1792740600-1792746000@cambridgetennis.org
SUMMARY:Breakfast Club
DESCRIPTION:
URL:https://cambridgetennis.org/social-tournament-events/breakfast-club-2/2026-10-23/
END:VEVENT
BEGIN:VEVENT
DTSTART;TZID=Europe/Paris:20261026T073000
DTEND;TZID=Europe/Paris:20261026T090000
DTSTAMP:20260425T054321
CREATED:20250814T173459Z
LAST-MODIFIED:20250814T173459Z
UID:10000750-1792999800-1793005200@cambridgetennis.org
SUMMARY:Breakfast Club
DESCRIPTION:
URL:https://cambridgetennis.org/social-tournament-events/breakfast-club-2/2026-10-26/
END:VEVENT
BEGIN:VEVENT
DTSTART;TZID=Europe/Paris:20261026T173000
DTEND;TZID=Europe/Paris:20261026T190000
DTSTAMP:20260425T054321
CREATED:20250814T173137Z
LAST-MODIFIED:20250814T173137Z
UID:10000100-1793035800-1793041200@cambridgetennis.org
SUMMARY:Women's Doubles 3.0+
DESCRIPTION:
URL:https://cambridgetennis.org/social-tournament-events/womens-doubles-3-0/2026-10-26/
END:VEVENT
BEGIN:VEVENT
DTSTART;TZID=Europe/Paris:20261027T183000
DTEND;TZID=Europe/Paris:20261027T200000
DTSTAMP:20260425T054321
CREATED:20250814T173303Z
LAST-MODIFIED:20250814T173303Z
UID:10000362-1793125800-1793131200@cambridgetennis.org
SUMMARY:Groundstrokes
DESCRIPTION:
URL:https://cambridgetennis.org/social-tournament-events/groundstrokes/2026-10-27/
END:VEVENT
BEGIN:VEVENT
DTSTART;TZID=Europe/Paris:20261028T073000
DTEND;TZID=Europe/Paris:20261028T090000
DTSTAMP:20260425T054321
CREATED:20250814T173459Z
LAST-MODIFIED:20250814T173459Z
UID:10000751-1793172600-1793178000@cambridgetennis.org
SUMMARY:Breakfast Club
DESCRIPTION:
URL:https://cambridgetennis.org/social-tournament-events/breakfast-club-2/2026-10-28/
END:VEVENT
BEGIN:VEVENT
DTSTART;TZID=Europe/Paris:20261030T073000
DTEND;TZID=Europe/Paris:20261030T090000
DTSTAMP:20260425T054321
CREATED:20250814T173459Z
LAST-MODIFIED:20250814T173459Z
UID:10000752-1793345400-1793350800@cambridgetennis.org
SUMMARY:Breakfast Club
DESCRIPTION:
URL:https://cambridgetennis.org/social-tournament-events/breakfast-club-2/2026-10-30/
END:VEVENT
BEGIN:VEVENT
DTSTART;TZID=Europe/Paris:20261102T073000
DTEND;TZID=Europe/Paris:20261102T090000
DTSTAMP:20260425T054321
CREATED:20250814T173459Z
LAST-MODIFIED:20250814T173459Z
UID:10000753-1793604600-1793610000@cambridgetennis.org
SUMMARY:Breakfast Club
DESCRIPTION:
URL:https://cambridgetennis.org/social-tournament-events/breakfast-club-2/2026-11-02/
END:VEVENT
BEGIN:VEVENT
DTSTART;TZID=Europe/Paris:20261102T173000
DTEND;TZID=Europe/Paris:20261102T190000
DTSTAMP:20260425T054321
CREATED:20250814T173137Z
LAST-MODIFIED:20250814T173137Z
UID:10000101-1793640600-1793646000@cambridgetennis.org
SUMMARY:Women's Doubles 3.0+
DESCRIPTION:
URL:https://cambridgetennis.org/social-tournament-events/womens-doubles-3-0/2026-11-02/
END:VEVENT
BEGIN:VEVENT
DTSTART;TZID=Europe/Paris:20261103T183000
DTEND;TZID=Europe/Paris:20261103T200000
DTSTAMP:20260425T054321
CREATED:20250814T173303Z
LAST-MODIFIED:20250814T173303Z
UID:10000363-1793730600-1793736000@cambridgetennis.org
SUMMARY:Groundstrokes
DESCRIPTION:
URL:https://cambridgetennis.org/social-tournament-events/groundstrokes/2026-11-03/
END:VEVENT
BEGIN:VEVENT
DTSTART;TZID=Europe/Paris:20261104T073000
DTEND;TZID=Europe/Paris:20261104T090000
DTSTAMP:20260425T054321
CREATED:20250814T173459Z
LAST-MODIFIED:20250814T173459Z
UID:10000754-1793777400-1793782800@cambridgetennis.org
SUMMARY:Breakfast Club
DESCRIPTION:
URL:https://cambridgetennis.org/social-tournament-events/breakfast-club-2/2026-11-04/
END:VEVENT
BEGIN:VEVENT
DTSTART;TZID=Europe/Paris:20261106T073000
DTEND;TZID=Europe/Paris:20261106T090000
DTSTAMP:20260425T054321
CREATED:20250814T173459Z
LAST-MODIFIED:20250814T173459Z
UID:10000755-1793950200-1793955600@cambridgetennis.org
SUMMARY:Breakfast Club
DESCRIPTION:
URL:https://cambridgetennis.org/social-tournament-events/breakfast-club-2/2026-11-06/
END:VEVENT
BEGIN:VEVENT
DTSTART;TZID=Europe/Paris:20261109T073000
DTEND;TZID=Europe/Paris:20261109T090000
DTSTAMP:20260425T054321
CREATED:20250814T173459Z
LAST-MODIFIED:20250814T173459Z
UID:10000756-1794209400-1794214800@cambridgetennis.org
SUMMARY:Breakfast Club
DESCRIPTION:
URL:https://cambridgetennis.org/social-tournament-events/breakfast-club-2/2026-11-09/
END:VEVENT
BEGIN:VEVENT
DTSTART;TZID=Europe/Paris:20261109T173000
DTEND;TZID=Europe/Paris:20261109T190000
DTSTAMP:20260425T054321
CREATED:20250814T173137Z
LAST-MODIFIED:20250814T173137Z
UID:10000102-1794245400-1794250800@cambridgetennis.org
SUMMARY:Women's Doubles 3.0+
DESCRIPTION:
URL:https://cambridgetennis.org/social-tournament-events/womens-doubles-3-0/2026-11-09/
END:VEVENT
BEGIN:VEVENT
DTSTART;TZID=Europe/Paris:20261110T183000
DTEND;TZID=Europe/Paris:20261110T200000
DTSTAMP:20260425T054321
CREATED:20250814T173303Z
LAST-MODIFIED:20250814T173303Z
UID:10000364-1794335400-1794340800@cambridgetennis.org
SUMMARY:Groundstrokes
DESCRIPTION:
URL:https://cambridgetennis.org/social-tournament-events/groundstrokes/2026-11-10/
END:VEVENT
END:VCALENDAR