BEGIN:VCALENDAR
VERSION:2.0
PRODID:-//Cambridge Tennis Club - ECPv6.15.20//NONSGML v1.0//EN
CALSCALE:GREGORIAN
METHOD:PUBLISH
X-WR-CALNAME:Cambridge Tennis Club
X-ORIGINAL-URL:https://cambridgetennis.org
X-WR-CALDESC:Events for Cambridge Tennis Club
REFRESH-INTERVAL;VALUE=DURATION:PT1H
X-Robots-Tag:noindex
X-PUBLISHED-TTL:PT1H
BEGIN:VTIMEZONE
TZID:Europe/Paris
BEGIN:DAYLIGHT
TZOFFSETFROM:+0100
TZOFFSETTO:+0200
TZNAME:CEST
DTSTART:20250330T010000
END:DAYLIGHT
BEGIN:STANDARD
TZOFFSETFROM:+0200
TZOFFSETTO:+0100
TZNAME:CET
DTSTART:20251026T010000
END:STANDARD
BEGIN:DAYLIGHT
TZOFFSETFROM:+0100
TZOFFSETTO:+0200
TZNAME:CEST
DTSTART:20260329T010000
END:DAYLIGHT
BEGIN:STANDARD
TZOFFSETFROM:+0200
TZOFFSETTO:+0100
TZNAME:CET
DTSTART:20261025T010000
END:STANDARD
BEGIN:DAYLIGHT
TZOFFSETFROM:+0100
TZOFFSETTO:+0200
TZNAME:CEST
DTSTART:20270328T010000
END:DAYLIGHT
BEGIN:STANDARD
TZOFFSETFROM:+0200
TZOFFSETTO:+0100
TZNAME:CET
DTSTART:20271031T010000
END:STANDARD
END:VTIMEZONE
BEGIN:VEVENT
DTSTART;TZID=Europe/Paris:20260601T073000
DTEND;TZID=Europe/Paris:20260601T090000
DTSTAMP:20260425T043824
CREATED:20250814T173459Z
LAST-MODIFIED:20250814T173459Z
UID:10000687-1780299000-1780304400@cambridgetennis.org
SUMMARY:Breakfast Club
DESCRIPTION:
URL:https://cambridgetennis.org/social-tournament-events/breakfast-club-2/2026-06-01/
END:VEVENT
BEGIN:VEVENT
DTSTART;TZID=Europe/Paris:20260601T173000
DTEND;TZID=Europe/Paris:20260601T190000
DTSTAMP:20260425T043824
CREATED:20250814T173137Z
LAST-MODIFIED:20250814T173137Z
UID:10000079-1780335000-1780340400@cambridgetennis.org
SUMMARY:Women's Doubles 3.0+
DESCRIPTION:
URL:https://cambridgetennis.org/social-tournament-events/womens-doubles-3-0/2026-06-01/
END:VEVENT
BEGIN:VEVENT
DTSTART;TZID=Europe/Paris:20260602T183000
DTEND;TZID=Europe/Paris:20260602T200000
DTSTAMP:20260425T043824
CREATED:20250814T173303Z
LAST-MODIFIED:20250814T173303Z
UID:10000341-1780425000-1780430400@cambridgetennis.org
SUMMARY:Groundstrokes
DESCRIPTION:
URL:https://cambridgetennis.org/social-tournament-events/groundstrokes/2026-06-02/
END:VEVENT
BEGIN:VEVENT
DTSTART;TZID=Europe/Paris:20260603T073000
DTEND;TZID=Europe/Paris:20260603T090000
DTSTAMP:20260425T043824
CREATED:20250814T173459Z
LAST-MODIFIED:20250814T173459Z
UID:10000688-1780471800-1780477200@cambridgetennis.org
SUMMARY:Breakfast Club
DESCRIPTION:
URL:https://cambridgetennis.org/social-tournament-events/breakfast-club-2/2026-06-03/
END:VEVENT
BEGIN:VEVENT
DTSTART;TZID=Europe/Paris:20260605T073000
DTEND;TZID=Europe/Paris:20260605T090000
DTSTAMP:20260425T043824
CREATED:20250814T173459Z
LAST-MODIFIED:20250814T173459Z
UID:10000689-1780644600-1780650000@cambridgetennis.org
SUMMARY:Breakfast Club
DESCRIPTION:
URL:https://cambridgetennis.org/social-tournament-events/breakfast-club-2/2026-06-05/
END:VEVENT
BEGIN:VEVENT
DTSTART;TZID=Europe/Paris:20260608T073000
DTEND;TZID=Europe/Paris:20260608T090000
DTSTAMP:20260425T043824
CREATED:20250814T173459Z
LAST-MODIFIED:20250814T173459Z
UID:10000690-1780903800-1780909200@cambridgetennis.org
SUMMARY:Breakfast Club
DESCRIPTION:
URL:https://cambridgetennis.org/social-tournament-events/breakfast-club-2/2026-06-08/
END:VEVENT
BEGIN:VEVENT
DTSTART;TZID=Europe/Paris:20260608T173000
DTEND;TZID=Europe/Paris:20260608T190000
DTSTAMP:20260425T043824
CREATED:20250814T173137Z
LAST-MODIFIED:20250814T173137Z
UID:10000080-1780939800-1780945200@cambridgetennis.org
SUMMARY:Women's Doubles 3.0+
DESCRIPTION:
URL:https://cambridgetennis.org/social-tournament-events/womens-doubles-3-0/2026-06-08/
END:VEVENT
BEGIN:VEVENT
DTSTART;TZID=Europe/Paris:20260609T183000
DTEND;TZID=Europe/Paris:20260609T200000
DTSTAMP:20260425T043824
CREATED:20250814T173303Z
LAST-MODIFIED:20250814T173303Z
UID:10000342-1781029800-1781035200@cambridgetennis.org
SUMMARY:Groundstrokes
DESCRIPTION:
URL:https://cambridgetennis.org/social-tournament-events/groundstrokes/2026-06-09/
END:VEVENT
BEGIN:VEVENT
DTSTART;TZID=Europe/Paris:20260610T073000
DTEND;TZID=Europe/Paris:20260610T090000
DTSTAMP:20260425T043824
CREATED:20250814T173459Z
LAST-MODIFIED:20250814T173459Z
UID:10000691-1781076600-1781082000@cambridgetennis.org
SUMMARY:Breakfast Club
DESCRIPTION:
URL:https://cambridgetennis.org/social-tournament-events/breakfast-club-2/2026-06-10/
END:VEVENT
BEGIN:VEVENT
DTSTART;TZID=Europe/Paris:20260612T073000
DTEND;TZID=Europe/Paris:20260612T090000
DTSTAMP:20260425T043824
CREATED:20250814T173459Z
LAST-MODIFIED:20250814T173459Z
UID:10000692-1781249400-1781254800@cambridgetennis.org
SUMMARY:Breakfast Club
DESCRIPTION:
URL:https://cambridgetennis.org/social-tournament-events/breakfast-club-2/2026-06-12/
END:VEVENT
BEGIN:VEVENT
DTSTART;TZID=Europe/Paris:20260615T073000
DTEND;TZID=Europe/Paris:20260615T090000
DTSTAMP:20260425T043824
CREATED:20250814T173459Z
LAST-MODIFIED:20250814T173459Z
UID:10000693-1781508600-1781514000@cambridgetennis.org
SUMMARY:Breakfast Club
DESCRIPTION:
URL:https://cambridgetennis.org/social-tournament-events/breakfast-club-2/2026-06-15/
END:VEVENT
BEGIN:VEVENT
DTSTART;TZID=Europe/Paris:20260615T173000
DTEND;TZID=Europe/Paris:20260615T190000
DTSTAMP:20260425T043824
CREATED:20250814T173137Z
LAST-MODIFIED:20250814T173137Z
UID:10000081-1781544600-1781550000@cambridgetennis.org
SUMMARY:Women's Doubles 3.0+
DESCRIPTION:
URL:https://cambridgetennis.org/social-tournament-events/womens-doubles-3-0/2026-06-15/
END:VEVENT
BEGIN:VEVENT
DTSTART;TZID=Europe/Paris:20260616T183000
DTEND;TZID=Europe/Paris:20260616T200000
DTSTAMP:20260425T043824
CREATED:20250814T173303Z
LAST-MODIFIED:20250814T173303Z
UID:10000343-1781634600-1781640000@cambridgetennis.org
SUMMARY:Groundstrokes
DESCRIPTION:
URL:https://cambridgetennis.org/social-tournament-events/groundstrokes/2026-06-16/
END:VEVENT
BEGIN:VEVENT
DTSTART;TZID=Europe/Paris:20260617T073000
DTEND;TZID=Europe/Paris:20260617T090000
DTSTAMP:20260425T043824
CREATED:20250814T173459Z
LAST-MODIFIED:20250814T173459Z
UID:10000694-1781681400-1781686800@cambridgetennis.org
SUMMARY:Breakfast Club
DESCRIPTION:
URL:https://cambridgetennis.org/social-tournament-events/breakfast-club-2/2026-06-17/
END:VEVENT
BEGIN:VEVENT
DTSTART;TZID=Europe/Paris:20260619T073000
DTEND;TZID=Europe/Paris:20260619T090000
DTSTAMP:20260425T043824
CREATED:20250814T173459Z
LAST-MODIFIED:20250814T173459Z
UID:10000695-1781854200-1781859600@cambridgetennis.org
SUMMARY:Breakfast Club
DESCRIPTION:
URL:https://cambridgetennis.org/social-tournament-events/breakfast-club-2/2026-06-19/
END:VEVENT
BEGIN:VEVENT
DTSTART;TZID=Europe/Paris:20260622T073000
DTEND;TZID=Europe/Paris:20260622T090000
DTSTAMP:20260425T043824
CREATED:20250814T173459Z
LAST-MODIFIED:20250814T173459Z
UID:10000696-1782113400-1782118800@cambridgetennis.org
SUMMARY:Breakfast Club
DESCRIPTION:
URL:https://cambridgetennis.org/social-tournament-events/breakfast-club-2/2026-06-22/
END:VEVENT
BEGIN:VEVENT
DTSTART;TZID=Europe/Paris:20260622T173000
DTEND;TZID=Europe/Paris:20260622T190000
DTSTAMP:20260425T043824
CREATED:20250814T173137Z
LAST-MODIFIED:20250814T173137Z
UID:10000082-1782149400-1782154800@cambridgetennis.org
SUMMARY:Women's Doubles 3.0+
DESCRIPTION:
URL:https://cambridgetennis.org/social-tournament-events/womens-doubles-3-0/2026-06-22/
END:VEVENT
BEGIN:VEVENT
DTSTART;TZID=Europe/Paris:20260623T183000
DTEND;TZID=Europe/Paris:20260623T200000
DTSTAMP:20260425T043824
CREATED:20250814T173303Z
LAST-MODIFIED:20250814T173303Z
UID:10000344-1782239400-1782244800@cambridgetennis.org
SUMMARY:Groundstrokes
DESCRIPTION:
URL:https://cambridgetennis.org/social-tournament-events/groundstrokes/2026-06-23/
END:VEVENT
BEGIN:VEVENT
DTSTART;TZID=Europe/Paris:20260624T073000
DTEND;TZID=Europe/Paris:20260624T090000
DTSTAMP:20260425T043824
CREATED:20250814T173459Z
LAST-MODIFIED:20250814T173459Z
UID:10000697-1782286200-1782291600@cambridgetennis.org
SUMMARY:Breakfast Club
DESCRIPTION:
URL:https://cambridgetennis.org/social-tournament-events/breakfast-club-2/2026-06-24/
END:VEVENT
BEGIN:VEVENT
DTSTART;TZID=Europe/Paris:20260626T073000
DTEND;TZID=Europe/Paris:20260626T090000
DTSTAMP:20260425T043824
CREATED:20250814T173459Z
LAST-MODIFIED:20250814T173459Z
UID:10000698-1782459000-1782464400@cambridgetennis.org
SUMMARY:Breakfast Club
DESCRIPTION:
URL:https://cambridgetennis.org/social-tournament-events/breakfast-club-2/2026-06-26/
END:VEVENT
BEGIN:VEVENT
DTSTART;TZID=Europe/Paris:20260629T073000
DTEND;TZID=Europe/Paris:20260629T090000
DTSTAMP:20260425T043824
CREATED:20250814T173459Z
LAST-MODIFIED:20250814T173459Z
UID:10000699-1782718200-1782723600@cambridgetennis.org
SUMMARY:Breakfast Club
DESCRIPTION:
URL:https://cambridgetennis.org/social-tournament-events/breakfast-club-2/2026-06-29/
END:VEVENT
BEGIN:VEVENT
DTSTART;TZID=Europe/Paris:20260629T173000
DTEND;TZID=Europe/Paris:20260629T190000
DTSTAMP:20260425T043824
CREATED:20250814T173137Z
LAST-MODIFIED:20250814T173137Z
UID:10000083-1782754200-1782759600@cambridgetennis.org
SUMMARY:Women's Doubles 3.0+
DESCRIPTION:
URL:https://cambridgetennis.org/social-tournament-events/womens-doubles-3-0/2026-06-29/
END:VEVENT
BEGIN:VEVENT
DTSTART;TZID=Europe/Paris:20260630T183000
DTEND;TZID=Europe/Paris:20260630T200000
DTSTAMP:20260425T043824
CREATED:20250814T173303Z
LAST-MODIFIED:20250814T173303Z
UID:10000345-1782844200-1782849600@cambridgetennis.org
SUMMARY:Groundstrokes
DESCRIPTION:
URL:https://cambridgetennis.org/social-tournament-events/groundstrokes/2026-06-30/
END:VEVENT
BEGIN:VEVENT
DTSTART;TZID=Europe/Paris:20260701T073000
DTEND;TZID=Europe/Paris:20260701T090000
DTSTAMP:20260425T043824
CREATED:20250814T173459Z
LAST-MODIFIED:20250814T173459Z
UID:10000700-1782891000-1782896400@cambridgetennis.org
SUMMARY:Breakfast Club
DESCRIPTION:
URL:https://cambridgetennis.org/social-tournament-events/breakfast-club-2/2026-07-01/
END:VEVENT
BEGIN:VEVENT
DTSTART;TZID=Europe/Paris:20260703T073000
DTEND;TZID=Europe/Paris:20260703T090000
DTSTAMP:20260425T043824
CREATED:20250814T173459Z
LAST-MODIFIED:20250814T173459Z
UID:10000701-1783063800-1783069200@cambridgetennis.org
SUMMARY:Breakfast Club
DESCRIPTION:
URL:https://cambridgetennis.org/social-tournament-events/breakfast-club-2/2026-07-03/
END:VEVENT
BEGIN:VEVENT
DTSTART;TZID=Europe/Paris:20260706T073000
DTEND;TZID=Europe/Paris:20260706T090000
DTSTAMP:20260425T043824
CREATED:20250814T173459Z
LAST-MODIFIED:20250814T173459Z
UID:10000702-1783323000-1783328400@cambridgetennis.org
SUMMARY:Breakfast Club
DESCRIPTION:
URL:https://cambridgetennis.org/social-tournament-events/breakfast-club-2/2026-07-06/
END:VEVENT
BEGIN:VEVENT
DTSTART;TZID=Europe/Paris:20260706T173000
DTEND;TZID=Europe/Paris:20260706T190000
DTSTAMP:20260425T043824
CREATED:20250814T173137Z
LAST-MODIFIED:20250814T173137Z
UID:10000084-1783359000-1783364400@cambridgetennis.org
SUMMARY:Women's Doubles 3.0+
DESCRIPTION:
URL:https://cambridgetennis.org/social-tournament-events/womens-doubles-3-0/2026-07-06/
END:VEVENT
BEGIN:VEVENT
DTSTART;TZID=Europe/Paris:20260707T183000
DTEND;TZID=Europe/Paris:20260707T200000
DTSTAMP:20260425T043824
CREATED:20250814T173303Z
LAST-MODIFIED:20250814T173303Z
UID:10000346-1783449000-1783454400@cambridgetennis.org
SUMMARY:Groundstrokes
DESCRIPTION:
URL:https://cambridgetennis.org/social-tournament-events/groundstrokes/2026-07-07/
END:VEVENT
BEGIN:VEVENT
DTSTART;TZID=Europe/Paris:20260708T073000
DTEND;TZID=Europe/Paris:20260708T090000
DTSTAMP:20260425T043825
CREATED:20250814T173459Z
LAST-MODIFIED:20250814T173459Z
UID:10000703-1783495800-1783501200@cambridgetennis.org
SUMMARY:Breakfast Club
DESCRIPTION:
URL:https://cambridgetennis.org/social-tournament-events/breakfast-club-2/2026-07-08/
END:VEVENT
BEGIN:VEVENT
DTSTART;TZID=Europe/Paris:20260710T073000
DTEND;TZID=Europe/Paris:20260710T090000
DTSTAMP:20260425T043825
CREATED:20250814T173459Z
LAST-MODIFIED:20250814T173459Z
UID:10000704-1783668600-1783674000@cambridgetennis.org
SUMMARY:Breakfast Club
DESCRIPTION:
URL:https://cambridgetennis.org/social-tournament-events/breakfast-club-2/2026-07-10/
END:VEVENT
END:VCALENDAR