BEGIN:VCALENDAR
VERSION:2.0
PRODID:-//Cambridge Tennis Club - ECPv6.15.20//NONSGML v1.0//EN
CALSCALE:GREGORIAN
METHOD:PUBLISH
X-ORIGINAL-URL:https://cambridgetennis.org
X-WR-CALDESC:Events for Cambridge Tennis Club
REFRESH-INTERVAL;VALUE=DURATION:PT1H
X-Robots-Tag:noindex
X-PUBLISHED-TTL:PT1H
BEGIN:VTIMEZONE
TZID:Europe/Paris
BEGIN:DAYLIGHT
TZOFFSETFROM:+0100
TZOFFSETTO:+0200
TZNAME:CEST
DTSTART:20250330T010000
END:DAYLIGHT
BEGIN:STANDARD
TZOFFSETFROM:+0200
TZOFFSETTO:+0100
TZNAME:CET
DTSTART:20251026T010000
END:STANDARD
BEGIN:DAYLIGHT
TZOFFSETFROM:+0100
TZOFFSETTO:+0200
TZNAME:CEST
DTSTART:20260329T010000
END:DAYLIGHT
BEGIN:STANDARD
TZOFFSETFROM:+0200
TZOFFSETTO:+0100
TZNAME:CET
DTSTART:20261025T010000
END:STANDARD
BEGIN:DAYLIGHT
TZOFFSETFROM:+0100
TZOFFSETTO:+0200
TZNAME:CEST
DTSTART:20270328T010000
END:DAYLIGHT
BEGIN:STANDARD
TZOFFSETFROM:+0200
TZOFFSETTO:+0100
TZNAME:CET
DTSTART:20271031T010000
END:STANDARD
END:VTIMEZONE
BEGIN:VEVENT
DTSTART;TZID=Europe/Paris:20260417T073000
DTEND;TZID=Europe/Paris:20260417T090000
DTSTAMP:20260425T032240
CREATED:20250814T173459Z
LAST-MODIFIED:20250814T173459Z
UID:10000668-1776411000-1776416400@cambridgetennis.org
SUMMARY:Breakfast Club
DESCRIPTION:
URL:https://cambridgetennis.org/social-tournament-events/breakfast-club-2/2026-04-17/
END:VEVENT
BEGIN:VEVENT
DTSTART;TZID=Europe/Paris:20260420T073000
DTEND;TZID=Europe/Paris:20260420T090000
DTSTAMP:20260425T032240
CREATED:20250814T173459Z
LAST-MODIFIED:20250814T173459Z
UID:10000669-1776670200-1776675600@cambridgetennis.org
SUMMARY:Breakfast Club
DESCRIPTION:
URL:https://cambridgetennis.org/social-tournament-events/breakfast-club-2/2026-04-20/
END:VEVENT
BEGIN:VEVENT
DTSTART;TZID=Europe/Paris:20260420T173000
DTEND;TZID=Europe/Paris:20260420T190000
DTSTAMP:20260425T032240
CREATED:20250814T173137Z
LAST-MODIFIED:20250814T173137Z
UID:10000073-1776706200-1776711600@cambridgetennis.org
SUMMARY:Women's Doubles 3.0+
DESCRIPTION:
URL:https://cambridgetennis.org/social-tournament-events/womens-doubles-3-0/2026-04-20/
END:VEVENT
BEGIN:VEVENT
DTSTART;TZID=Europe/Paris:20260421T183000
DTEND;TZID=Europe/Paris:20260421T200000
DTSTAMP:20260425T032240
CREATED:20250814T173303Z
LAST-MODIFIED:20250814T173303Z
UID:10000335-1776796200-1776801600@cambridgetennis.org
SUMMARY:Groundstrokes
DESCRIPTION:
URL:https://cambridgetennis.org/social-tournament-events/groundstrokes/2026-04-21/
END:VEVENT
BEGIN:VEVENT
DTSTART;TZID=Europe/Paris:20260422T073000
DTEND;TZID=Europe/Paris:20260422T090000
DTSTAMP:20260425T032240
CREATED:20250814T173459Z
LAST-MODIFIED:20250814T173459Z
UID:10000670-1776843000-1776848400@cambridgetennis.org
SUMMARY:Breakfast Club
DESCRIPTION:
URL:https://cambridgetennis.org/social-tournament-events/breakfast-club-2/2026-04-22/
END:VEVENT
BEGIN:VEVENT
DTSTART;TZID=Europe/Paris:20260424T073000
DTEND;TZID=Europe/Paris:20260424T090000
DTSTAMP:20260425T032240
CREATED:20250814T173459Z
LAST-MODIFIED:20250814T173459Z
UID:10000671-1777015800-1777021200@cambridgetennis.org
SUMMARY:Breakfast Club
DESCRIPTION:
URL:https://cambridgetennis.org/social-tournament-events/breakfast-club-2/2026-04-24/
END:VEVENT
BEGIN:VEVENT
DTSTART;TZID=Europe/Paris:20260427T073000
DTEND;TZID=Europe/Paris:20260427T090000
DTSTAMP:20260425T032240
CREATED:20250814T173459Z
LAST-MODIFIED:20250814T173459Z
UID:10000672-1777275000-1777280400@cambridgetennis.org
SUMMARY:Breakfast Club
DESCRIPTION:
URL:https://cambridgetennis.org/social-tournament-events/breakfast-club-2/2026-04-27/
END:VEVENT
BEGIN:VEVENT
DTSTART;TZID=Europe/Paris:20260427T173000
DTEND;TZID=Europe/Paris:20260427T190000
DTSTAMP:20260425T032240
CREATED:20250814T173137Z
LAST-MODIFIED:20250814T173137Z
UID:10000074-1777311000-1777316400@cambridgetennis.org
SUMMARY:Women's Doubles 3.0+
DESCRIPTION:
URL:https://cambridgetennis.org/social-tournament-events/womens-doubles-3-0/2026-04-27/
END:VEVENT
BEGIN:VEVENT
DTSTART;TZID=Europe/Paris:20260428T183000
DTEND;TZID=Europe/Paris:20260428T200000
DTSTAMP:20260425T032240
CREATED:20250814T173303Z
LAST-MODIFIED:20250814T173303Z
UID:10000336-1777401000-1777406400@cambridgetennis.org
SUMMARY:Groundstrokes
DESCRIPTION:
URL:https://cambridgetennis.org/social-tournament-events/groundstrokes/2026-04-28/
END:VEVENT
BEGIN:VEVENT
DTSTART;TZID=Europe/Paris:20260429T073000
DTEND;TZID=Europe/Paris:20260429T090000
DTSTAMP:20260425T032240
CREATED:20250814T173459Z
LAST-MODIFIED:20250814T173459Z
UID:10000673-1777447800-1777453200@cambridgetennis.org
SUMMARY:Breakfast Club
DESCRIPTION:
URL:https://cambridgetennis.org/social-tournament-events/breakfast-club-2/2026-04-29/
END:VEVENT
BEGIN:VEVENT
DTSTART;TZID=Europe/Paris:20260501T073000
DTEND;TZID=Europe/Paris:20260501T090000
DTSTAMP:20260425T032240
CREATED:20250814T173459Z
LAST-MODIFIED:20250814T173459Z
UID:10000674-1777620600-1777626000@cambridgetennis.org
SUMMARY:Breakfast Club
DESCRIPTION:
URL:https://cambridgetennis.org/social-tournament-events/breakfast-club-2/2026-05-01/
END:VEVENT
BEGIN:VEVENT
DTSTART;TZID=Europe/Paris:20260504T073000
DTEND;TZID=Europe/Paris:20260504T090000
DTSTAMP:20260425T032240
CREATED:20250814T173459Z
LAST-MODIFIED:20250814T173459Z
UID:10000675-1777879800-1777885200@cambridgetennis.org
SUMMARY:Breakfast Club
DESCRIPTION:
URL:https://cambridgetennis.org/social-tournament-events/breakfast-club-2/2026-05-04/
END:VEVENT
BEGIN:VEVENT
DTSTART;TZID=Europe/Paris:20260504T173000
DTEND;TZID=Europe/Paris:20260504T190000
DTSTAMP:20260425T032240
CREATED:20250814T173137Z
LAST-MODIFIED:20250814T173137Z
UID:10000075-1777915800-1777921200@cambridgetennis.org
SUMMARY:Women's Doubles 3.0+
DESCRIPTION:
URL:https://cambridgetennis.org/social-tournament-events/womens-doubles-3-0/2026-05-04/
END:VEVENT
BEGIN:VEVENT
DTSTART;TZID=Europe/Paris:20260505T183000
DTEND;TZID=Europe/Paris:20260505T200000
DTSTAMP:20260425T032240
CREATED:20250814T173303Z
LAST-MODIFIED:20250814T173303Z
UID:10000337-1778005800-1778011200@cambridgetennis.org
SUMMARY:Groundstrokes
DESCRIPTION:
URL:https://cambridgetennis.org/social-tournament-events/groundstrokes/2026-05-05/
END:VEVENT
BEGIN:VEVENT
DTSTART;TZID=Europe/Paris:20260506T073000
DTEND;TZID=Europe/Paris:20260506T090000
DTSTAMP:20260425T032240
CREATED:20250814T173459Z
LAST-MODIFIED:20250814T173459Z
UID:10000676-1778052600-1778058000@cambridgetennis.org
SUMMARY:Breakfast Club
DESCRIPTION:
URL:https://cambridgetennis.org/social-tournament-events/breakfast-club-2/2026-05-06/
END:VEVENT
BEGIN:VEVENT
DTSTART;TZID=Europe/Paris:20260508T073000
DTEND;TZID=Europe/Paris:20260508T090000
DTSTAMP:20260425T032240
CREATED:20250814T173459Z
LAST-MODIFIED:20250814T173459Z
UID:10000677-1778225400-1778230800@cambridgetennis.org
SUMMARY:Breakfast Club
DESCRIPTION:
URL:https://cambridgetennis.org/social-tournament-events/breakfast-club-2/2026-05-08/
END:VEVENT
BEGIN:VEVENT
DTSTART;TZID=Europe/Paris:20260511T073000
DTEND;TZID=Europe/Paris:20260511T090000
DTSTAMP:20260425T032240
CREATED:20250814T173459Z
LAST-MODIFIED:20250814T173459Z
UID:10000678-1778484600-1778490000@cambridgetennis.org
SUMMARY:Breakfast Club
DESCRIPTION:
URL:https://cambridgetennis.org/social-tournament-events/breakfast-club-2/2026-05-11/
END:VEVENT
BEGIN:VEVENT
DTSTART;TZID=Europe/Paris:20260511T173000
DTEND;TZID=Europe/Paris:20260511T190000
DTSTAMP:20260425T032240
CREATED:20250814T173137Z
LAST-MODIFIED:20250814T173137Z
UID:10000076-1778520600-1778526000@cambridgetennis.org
SUMMARY:Women's Doubles 3.0+
DESCRIPTION:
URL:https://cambridgetennis.org/social-tournament-events/womens-doubles-3-0/2026-05-11/
END:VEVENT
BEGIN:VEVENT
DTSTART;TZID=Europe/Paris:20260512T183000
DTEND;TZID=Europe/Paris:20260512T200000
DTSTAMP:20260425T032240
CREATED:20250814T173303Z
LAST-MODIFIED:20250814T173303Z
UID:10000338-1778610600-1778616000@cambridgetennis.org
SUMMARY:Groundstrokes
DESCRIPTION:
URL:https://cambridgetennis.org/social-tournament-events/groundstrokes/2026-05-12/
END:VEVENT
BEGIN:VEVENT
DTSTART;TZID=Europe/Paris:20260513T073000
DTEND;TZID=Europe/Paris:20260513T090000
DTSTAMP:20260425T032240
CREATED:20250814T173459Z
LAST-MODIFIED:20250814T173459Z
UID:10000679-1778657400-1778662800@cambridgetennis.org
SUMMARY:Breakfast Club
DESCRIPTION:
URL:https://cambridgetennis.org/social-tournament-events/breakfast-club-2/2026-05-13/
END:VEVENT
BEGIN:VEVENT
DTSTART;TZID=Europe/Paris:20260515T073000
DTEND;TZID=Europe/Paris:20260515T090000
DTSTAMP:20260425T032240
CREATED:20250814T173459Z
LAST-MODIFIED:20250814T173459Z
UID:10000680-1778830200-1778835600@cambridgetennis.org
SUMMARY:Breakfast Club
DESCRIPTION:
URL:https://cambridgetennis.org/social-tournament-events/breakfast-club-2/2026-05-15/
END:VEVENT
BEGIN:VEVENT
DTSTART;TZID=Europe/Paris:20260518T073000
DTEND;TZID=Europe/Paris:20260518T090000
DTSTAMP:20260425T032240
CREATED:20250814T173459Z
LAST-MODIFIED:20250814T173459Z
UID:10000681-1779089400-1779094800@cambridgetennis.org
SUMMARY:Breakfast Club
DESCRIPTION:
URL:https://cambridgetennis.org/social-tournament-events/breakfast-club-2/2026-05-18/
END:VEVENT
BEGIN:VEVENT
DTSTART;TZID=Europe/Paris:20260518T173000
DTEND;TZID=Europe/Paris:20260518T190000
DTSTAMP:20260425T032240
CREATED:20250814T173137Z
LAST-MODIFIED:20250814T173137Z
UID:10000077-1779125400-1779130800@cambridgetennis.org
SUMMARY:Women's Doubles 3.0+
DESCRIPTION:
URL:https://cambridgetennis.org/social-tournament-events/womens-doubles-3-0/2026-05-18/
END:VEVENT
BEGIN:VEVENT
DTSTART;TZID=Europe/Paris:20260519T183000
DTEND;TZID=Europe/Paris:20260519T200000
DTSTAMP:20260425T032240
CREATED:20250814T173303Z
LAST-MODIFIED:20250814T173303Z
UID:10000339-1779215400-1779220800@cambridgetennis.org
SUMMARY:Groundstrokes
DESCRIPTION:
URL:https://cambridgetennis.org/social-tournament-events/groundstrokes/2026-05-19/
END:VEVENT
BEGIN:VEVENT
DTSTART;TZID=Europe/Paris:20260520T073000
DTEND;TZID=Europe/Paris:20260520T090000
DTSTAMP:20260425T032240
CREATED:20250814T173459Z
LAST-MODIFIED:20250814T173459Z
UID:10000682-1779262200-1779267600@cambridgetennis.org
SUMMARY:Breakfast Club
DESCRIPTION:
URL:https://cambridgetennis.org/social-tournament-events/breakfast-club-2/2026-05-20/
END:VEVENT
BEGIN:VEVENT
DTSTART;TZID=Europe/Paris:20260522T073000
DTEND;TZID=Europe/Paris:20260522T090000
DTSTAMP:20260425T032240
CREATED:20250814T173459Z
LAST-MODIFIED:20250814T173459Z
UID:10000683-1779435000-1779440400@cambridgetennis.org
SUMMARY:Breakfast Club
DESCRIPTION:
URL:https://cambridgetennis.org/social-tournament-events/breakfast-club-2/2026-05-22/
END:VEVENT
BEGIN:VEVENT
DTSTART;TZID=Europe/Paris:20260525T073000
DTEND;TZID=Europe/Paris:20260525T090000
DTSTAMP:20260425T032240
CREATED:20250814T173459Z
LAST-MODIFIED:20250814T173459Z
UID:10000684-1779694200-1779699600@cambridgetennis.org
SUMMARY:Breakfast Club
DESCRIPTION:
URL:https://cambridgetennis.org/social-tournament-events/breakfast-club-2/2026-05-25/
END:VEVENT
BEGIN:VEVENT
DTSTART;TZID=Europe/Paris:20260525T173000
DTEND;TZID=Europe/Paris:20260525T190000
DTSTAMP:20260425T032240
CREATED:20250814T173137Z
LAST-MODIFIED:20250814T173137Z
UID:10000078-1779730200-1779735600@cambridgetennis.org
SUMMARY:Women's Doubles 3.0+
DESCRIPTION:
URL:https://cambridgetennis.org/social-tournament-events/womens-doubles-3-0/2026-05-25/
END:VEVENT
BEGIN:VEVENT
DTSTART;TZID=Europe/Paris:20260526T183000
DTEND;TZID=Europe/Paris:20260526T200000
DTSTAMP:20260425T032240
CREATED:20250814T173303Z
LAST-MODIFIED:20250814T173303Z
UID:10000340-1779820200-1779825600@cambridgetennis.org
SUMMARY:Groundstrokes
DESCRIPTION:
URL:https://cambridgetennis.org/social-tournament-events/groundstrokes/2026-05-26/
END:VEVENT
BEGIN:VEVENT
DTSTART;TZID=Europe/Paris:20260527T073000
DTEND;TZID=Europe/Paris:20260527T090000
DTSTAMP:20260425T032240
CREATED:20250814T173459Z
LAST-MODIFIED:20250814T173459Z
UID:10000685-1779867000-1779872400@cambridgetennis.org
SUMMARY:Breakfast Club
DESCRIPTION:
URL:https://cambridgetennis.org/social-tournament-events/breakfast-club-2/2026-05-27/
END:VEVENT
END:VCALENDAR