BEGIN:VCALENDAR
VERSION:2.0
PRODID:-//Cambridge Tennis Club - ECPv6.15.20//NONSGML v1.0//EN
CALSCALE:GREGORIAN
METHOD:PUBLISH
X-ORIGINAL-URL:https://cambridgetennis.org
X-WR-CALDESC:Events for Cambridge Tennis Club
REFRESH-INTERVAL;VALUE=DURATION:PT1H
X-Robots-Tag:noindex
X-PUBLISHED-TTL:PT1H
BEGIN:VTIMEZONE
TZID:Europe/Paris
BEGIN:DAYLIGHT
TZOFFSETFROM:+0100
TZOFFSETTO:+0200
TZNAME:CEST
DTSTART:20250330T010000
END:DAYLIGHT
BEGIN:STANDARD
TZOFFSETFROM:+0200
TZOFFSETTO:+0100
TZNAME:CET
DTSTART:20251026T010000
END:STANDARD
BEGIN:DAYLIGHT
TZOFFSETFROM:+0100
TZOFFSETTO:+0200
TZNAME:CEST
DTSTART:20260329T010000
END:DAYLIGHT
BEGIN:STANDARD
TZOFFSETFROM:+0200
TZOFFSETTO:+0100
TZNAME:CET
DTSTART:20261025T010000
END:STANDARD
BEGIN:DAYLIGHT
TZOFFSETFROM:+0100
TZOFFSETTO:+0200
TZNAME:CEST
DTSTART:20270328T010000
END:DAYLIGHT
BEGIN:STANDARD
TZOFFSETFROM:+0200
TZOFFSETTO:+0100
TZNAME:CET
DTSTART:20271031T010000
END:STANDARD
END:VTIMEZONE
BEGIN:VEVENT
DTSTART;TZID=Europe/Paris:20260302T073000
DTEND;TZID=Europe/Paris:20260302T090000
DTSTAMP:20260424T214331
CREATED:20250814T173459Z
LAST-MODIFIED:20250814T173459Z
UID:10000648-1772436600-1772442000@cambridgetennis.org
SUMMARY:Breakfast Club
DESCRIPTION:
URL:https://cambridgetennis.org/social-tournament-events/breakfast-club-2/2026-03-02/
END:VEVENT
BEGIN:VEVENT
DTSTART;TZID=Europe/Paris:20260302T173000
DTEND;TZID=Europe/Paris:20260302T190000
DTSTAMP:20260424T214331
CREATED:20250814T173137Z
LAST-MODIFIED:20250814T173137Z
UID:10000066-1772472600-1772478000@cambridgetennis.org
SUMMARY:Women's Doubles 3.0+
DESCRIPTION:
URL:https://cambridgetennis.org/social-tournament-events/womens-doubles-3-0/2026-03-02/
END:VEVENT
BEGIN:VEVENT
DTSTART;TZID=Europe/Paris:20260303T183000
DTEND;TZID=Europe/Paris:20260303T200000
DTSTAMP:20260424T214331
CREATED:20250814T173303Z
LAST-MODIFIED:20250814T173303Z
UID:10000328-1772562600-1772568000@cambridgetennis.org
SUMMARY:Groundstrokes
DESCRIPTION:
URL:https://cambridgetennis.org/social-tournament-events/groundstrokes/2026-03-03/
END:VEVENT
BEGIN:VEVENT
DTSTART;TZID=Europe/Paris:20260304T073000
DTEND;TZID=Europe/Paris:20260304T090000
DTSTAMP:20260424T214331
CREATED:20250814T173459Z
LAST-MODIFIED:20250814T173459Z
UID:10000649-1772609400-1772614800@cambridgetennis.org
SUMMARY:Breakfast Club
DESCRIPTION:
URL:https://cambridgetennis.org/social-tournament-events/breakfast-club-2/2026-03-04/
END:VEVENT
BEGIN:VEVENT
DTSTART;TZID=Europe/Paris:20260306T073000
DTEND;TZID=Europe/Paris:20260306T090000
DTSTAMP:20260424T214331
CREATED:20250814T173459Z
LAST-MODIFIED:20250814T173459Z
UID:10000650-1772782200-1772787600@cambridgetennis.org
SUMMARY:Breakfast Club
DESCRIPTION:
URL:https://cambridgetennis.org/social-tournament-events/breakfast-club-2/2026-03-06/
END:VEVENT
BEGIN:VEVENT
DTSTART;TZID=Europe/Paris:20260309T073000
DTEND;TZID=Europe/Paris:20260309T090000
DTSTAMP:20260424T214331
CREATED:20250814T173459Z
LAST-MODIFIED:20250814T173459Z
UID:10000651-1773041400-1773046800@cambridgetennis.org
SUMMARY:Breakfast Club
DESCRIPTION:
URL:https://cambridgetennis.org/social-tournament-events/breakfast-club-2/2026-03-09/
END:VEVENT
BEGIN:VEVENT
DTSTART;TZID=Europe/Paris:20260309T173000
DTEND;TZID=Europe/Paris:20260309T190000
DTSTAMP:20260424T214331
CREATED:20250814T173137Z
LAST-MODIFIED:20250814T173137Z
UID:10000067-1773077400-1773082800@cambridgetennis.org
SUMMARY:Women's Doubles 3.0+
DESCRIPTION:
URL:https://cambridgetennis.org/social-tournament-events/womens-doubles-3-0/2026-03-09/
END:VEVENT
BEGIN:VEVENT
DTSTART;TZID=Europe/Paris:20260310T183000
DTEND;TZID=Europe/Paris:20260310T200000
DTSTAMP:20260424T214331
CREATED:20250814T173303Z
LAST-MODIFIED:20250814T173303Z
UID:10000329-1773167400-1773172800@cambridgetennis.org
SUMMARY:Groundstrokes
DESCRIPTION:
URL:https://cambridgetennis.org/social-tournament-events/groundstrokes/2026-03-10/
END:VEVENT
BEGIN:VEVENT
DTSTART;TZID=Europe/Paris:20260311T073000
DTEND;TZID=Europe/Paris:20260311T090000
DTSTAMP:20260424T214331
CREATED:20250814T173459Z
LAST-MODIFIED:20250814T173459Z
UID:10000652-1773214200-1773219600@cambridgetennis.org
SUMMARY:Breakfast Club
DESCRIPTION:
URL:https://cambridgetennis.org/social-tournament-events/breakfast-club-2/2026-03-11/
END:VEVENT
BEGIN:VEVENT
DTSTART;TZID=Europe/Paris:20260313T073000
DTEND;TZID=Europe/Paris:20260313T090000
DTSTAMP:20260424T214331
CREATED:20250814T173459Z
LAST-MODIFIED:20250814T173459Z
UID:10000653-1773387000-1773392400@cambridgetennis.org
SUMMARY:Breakfast Club
DESCRIPTION:
URL:https://cambridgetennis.org/social-tournament-events/breakfast-club-2/2026-03-13/
END:VEVENT
BEGIN:VEVENT
DTSTART;TZID=Europe/Paris:20260316T073000
DTEND;TZID=Europe/Paris:20260316T090000
DTSTAMP:20260424T214331
CREATED:20250814T173459Z
LAST-MODIFIED:20250814T173459Z
UID:10000654-1773646200-1773651600@cambridgetennis.org
SUMMARY:Breakfast Club
DESCRIPTION:
URL:https://cambridgetennis.org/social-tournament-events/breakfast-club-2/2026-03-16/
END:VEVENT
BEGIN:VEVENT
DTSTART;TZID=Europe/Paris:20260316T173000
DTEND;TZID=Europe/Paris:20260316T190000
DTSTAMP:20260424T214331
CREATED:20250814T173137Z
LAST-MODIFIED:20250814T173137Z
UID:10000068-1773682200-1773687600@cambridgetennis.org
SUMMARY:Women's Doubles 3.0+
DESCRIPTION:
URL:https://cambridgetennis.org/social-tournament-events/womens-doubles-3-0/2026-03-16/
END:VEVENT
BEGIN:VEVENT
DTSTART;TZID=Europe/Paris:20260317T183000
DTEND;TZID=Europe/Paris:20260317T200000
DTSTAMP:20260424T214331
CREATED:20250814T173303Z
LAST-MODIFIED:20250814T173303Z
UID:10000330-1773772200-1773777600@cambridgetennis.org
SUMMARY:Groundstrokes
DESCRIPTION:
URL:https://cambridgetennis.org/social-tournament-events/groundstrokes/2026-03-17/
END:VEVENT
BEGIN:VEVENT
DTSTART;TZID=Europe/Paris:20260318T073000
DTEND;TZID=Europe/Paris:20260318T090000
DTSTAMP:20260424T214331
CREATED:20250814T173459Z
LAST-MODIFIED:20250814T173459Z
UID:10000655-1773819000-1773824400@cambridgetennis.org
SUMMARY:Breakfast Club
DESCRIPTION:
URL:https://cambridgetennis.org/social-tournament-events/breakfast-club-2/2026-03-18/
END:VEVENT
BEGIN:VEVENT
DTSTART;TZID=Europe/Paris:20260320T073000
DTEND;TZID=Europe/Paris:20260320T090000
DTSTAMP:20260424T214331
CREATED:20250814T173459Z
LAST-MODIFIED:20250814T173459Z
UID:10000656-1773991800-1773997200@cambridgetennis.org
SUMMARY:Breakfast Club
DESCRIPTION:
URL:https://cambridgetennis.org/social-tournament-events/breakfast-club-2/2026-03-20/
END:VEVENT
BEGIN:VEVENT
DTSTART;TZID=Europe/Paris:20260323T073000
DTEND;TZID=Europe/Paris:20260323T090000
DTSTAMP:20260424T214331
CREATED:20250814T173459Z
LAST-MODIFIED:20250814T173459Z
UID:10000657-1774251000-1774256400@cambridgetennis.org
SUMMARY:Breakfast Club
DESCRIPTION:
URL:https://cambridgetennis.org/social-tournament-events/breakfast-club-2/2026-03-23/
END:VEVENT
BEGIN:VEVENT
DTSTART;TZID=Europe/Paris:20260323T173000
DTEND;TZID=Europe/Paris:20260323T190000
DTSTAMP:20260424T214331
CREATED:20250814T173137Z
LAST-MODIFIED:20250814T173137Z
UID:10000069-1774287000-1774292400@cambridgetennis.org
SUMMARY:Women's Doubles 3.0+
DESCRIPTION:
URL:https://cambridgetennis.org/social-tournament-events/womens-doubles-3-0/2026-03-23/
END:VEVENT
BEGIN:VEVENT
DTSTART;TZID=Europe/Paris:20260324T183000
DTEND;TZID=Europe/Paris:20260324T200000
DTSTAMP:20260424T214331
CREATED:20250814T173303Z
LAST-MODIFIED:20250814T173303Z
UID:10000331-1774377000-1774382400@cambridgetennis.org
SUMMARY:Groundstrokes
DESCRIPTION:
URL:https://cambridgetennis.org/social-tournament-events/groundstrokes/2026-03-24/
END:VEVENT
BEGIN:VEVENT
DTSTART;TZID=Europe/Paris:20260325T073000
DTEND;TZID=Europe/Paris:20260325T090000
DTSTAMP:20260424T214331
CREATED:20250814T173459Z
LAST-MODIFIED:20250814T173459Z
UID:10000658-1774423800-1774429200@cambridgetennis.org
SUMMARY:Breakfast Club
DESCRIPTION:
URL:https://cambridgetennis.org/social-tournament-events/breakfast-club-2/2026-03-25/
END:VEVENT
BEGIN:VEVENT
DTSTART;TZID=Europe/Paris:20260327T073000
DTEND;TZID=Europe/Paris:20260327T090000
DTSTAMP:20260424T214331
CREATED:20250814T173459Z
LAST-MODIFIED:20250814T173459Z
UID:10000659-1774596600-1774602000@cambridgetennis.org
SUMMARY:Breakfast Club
DESCRIPTION:
URL:https://cambridgetennis.org/social-tournament-events/breakfast-club-2/2026-03-27/
END:VEVENT
BEGIN:VEVENT
DTSTART;TZID=Europe/Paris:20260330T073000
DTEND;TZID=Europe/Paris:20260330T090000
DTSTAMP:20260424T214331
CREATED:20250814T173459Z
LAST-MODIFIED:20250814T173459Z
UID:10000660-1774855800-1774861200@cambridgetennis.org
SUMMARY:Breakfast Club
DESCRIPTION:
URL:https://cambridgetennis.org/social-tournament-events/breakfast-club-2/2026-03-30/
END:VEVENT
BEGIN:VEVENT
DTSTART;TZID=Europe/Paris:20260330T173000
DTEND;TZID=Europe/Paris:20260330T190000
DTSTAMP:20260424T214331
CREATED:20250814T173137Z
LAST-MODIFIED:20250814T173137Z
UID:10000070-1774891800-1774897200@cambridgetennis.org
SUMMARY:Women's Doubles 3.0+
DESCRIPTION:
URL:https://cambridgetennis.org/social-tournament-events/womens-doubles-3-0/2026-03-30/
END:VEVENT
BEGIN:VEVENT
DTSTART;TZID=Europe/Paris:20260331T183000
DTEND;TZID=Europe/Paris:20260331T200000
DTSTAMP:20260424T214331
CREATED:20250814T173303Z
LAST-MODIFIED:20250814T173303Z
UID:10000332-1774981800-1774987200@cambridgetennis.org
SUMMARY:Groundstrokes
DESCRIPTION:
URL:https://cambridgetennis.org/social-tournament-events/groundstrokes/2026-03-31/
END:VEVENT
END:VCALENDAR