BEGIN:VCALENDAR
VERSION:2.0
PRODID:-//Cambridge Tennis Club - ECPv6.15.20//NONSGML v1.0//EN
CALSCALE:GREGORIAN
METHOD:PUBLISH
X-WR-CALNAME:Cambridge Tennis Club
X-ORIGINAL-URL:https://cambridgetennis.org
X-WR-CALDESC:Events for Cambridge Tennis Club
REFRESH-INTERVAL;VALUE=DURATION:PT1H
X-Robots-Tag:noindex
X-PUBLISHED-TTL:PT1H
BEGIN:VTIMEZONE
TZID:Europe/Paris
BEGIN:DAYLIGHT
TZOFFSETFROM:+0100
TZOFFSETTO:+0200
TZNAME:CEST
DTSTART:20250330T010000
END:DAYLIGHT
BEGIN:STANDARD
TZOFFSETFROM:+0200
TZOFFSETTO:+0100
TZNAME:CET
DTSTART:20251026T010000
END:STANDARD
BEGIN:DAYLIGHT
TZOFFSETFROM:+0100
TZOFFSETTO:+0200
TZNAME:CEST
DTSTART:20260329T010000
END:DAYLIGHT
BEGIN:STANDARD
TZOFFSETFROM:+0200
TZOFFSETTO:+0100
TZNAME:CET
DTSTART:20261025T010000
END:STANDARD
BEGIN:DAYLIGHT
TZOFFSETFROM:+0100
TZOFFSETTO:+0200
TZNAME:CEST
DTSTART:20270328T010000
END:DAYLIGHT
BEGIN:STANDARD
TZOFFSETFROM:+0200
TZOFFSETTO:+0100
TZNAME:CET
DTSTART:20271031T010000
END:STANDARD
END:VTIMEZONE
BEGIN:VEVENT
DTSTART;TZID=Europe/Paris:20261102T073000
DTEND;TZID=Europe/Paris:20261102T090000
DTSTAMP:20260425T053836
CREATED:20250814T173459Z
LAST-MODIFIED:20250814T173459Z
UID:10000753-1793604600-1793610000@cambridgetennis.org
SUMMARY:Breakfast Club
DESCRIPTION:
URL:https://cambridgetennis.org/social-tournament-events/breakfast-club-2/2026-11-02/
END:VEVENT
BEGIN:VEVENT
DTSTART;TZID=Europe/Paris:20261102T173000
DTEND;TZID=Europe/Paris:20261102T190000
DTSTAMP:20260425T053836
CREATED:20250814T173137Z
LAST-MODIFIED:20250814T173137Z
UID:10000101-1793640600-1793646000@cambridgetennis.org
SUMMARY:Women's Doubles 3.0+
DESCRIPTION:
URL:https://cambridgetennis.org/social-tournament-events/womens-doubles-3-0/2026-11-02/
END:VEVENT
BEGIN:VEVENT
DTSTART;TZID=Europe/Paris:20261103T183000
DTEND;TZID=Europe/Paris:20261103T200000
DTSTAMP:20260425T053836
CREATED:20250814T173303Z
LAST-MODIFIED:20250814T173303Z
UID:10000363-1793730600-1793736000@cambridgetennis.org
SUMMARY:Groundstrokes
DESCRIPTION:
URL:https://cambridgetennis.org/social-tournament-events/groundstrokes/2026-11-03/
END:VEVENT
BEGIN:VEVENT
DTSTART;TZID=Europe/Paris:20261104T073000
DTEND;TZID=Europe/Paris:20261104T090000
DTSTAMP:20260425T053836
CREATED:20250814T173459Z
LAST-MODIFIED:20250814T173459Z
UID:10000754-1793777400-1793782800@cambridgetennis.org
SUMMARY:Breakfast Club
DESCRIPTION:
URL:https://cambridgetennis.org/social-tournament-events/breakfast-club-2/2026-11-04/
END:VEVENT
BEGIN:VEVENT
DTSTART;TZID=Europe/Paris:20261106T073000
DTEND;TZID=Europe/Paris:20261106T090000
DTSTAMP:20260425T053836
CREATED:20250814T173459Z
LAST-MODIFIED:20250814T173459Z
UID:10000755-1793950200-1793955600@cambridgetennis.org
SUMMARY:Breakfast Club
DESCRIPTION:
URL:https://cambridgetennis.org/social-tournament-events/breakfast-club-2/2026-11-06/
END:VEVENT
BEGIN:VEVENT
DTSTART;TZID=Europe/Paris:20261109T073000
DTEND;TZID=Europe/Paris:20261109T090000
DTSTAMP:20260425T053836
CREATED:20250814T173459Z
LAST-MODIFIED:20250814T173459Z
UID:10000756-1794209400-1794214800@cambridgetennis.org
SUMMARY:Breakfast Club
DESCRIPTION:
URL:https://cambridgetennis.org/social-tournament-events/breakfast-club-2/2026-11-09/
END:VEVENT
BEGIN:VEVENT
DTSTART;TZID=Europe/Paris:20261109T173000
DTEND;TZID=Europe/Paris:20261109T190000
DTSTAMP:20260425T053836
CREATED:20250814T173137Z
LAST-MODIFIED:20250814T173137Z
UID:10000102-1794245400-1794250800@cambridgetennis.org
SUMMARY:Women's Doubles 3.0+
DESCRIPTION:
URL:https://cambridgetennis.org/social-tournament-events/womens-doubles-3-0/2026-11-09/
END:VEVENT
BEGIN:VEVENT
DTSTART;TZID=Europe/Paris:20261110T183000
DTEND;TZID=Europe/Paris:20261110T200000
DTSTAMP:20260425T053836
CREATED:20250814T173303Z
LAST-MODIFIED:20250814T173303Z
UID:10000364-1794335400-1794340800@cambridgetennis.org
SUMMARY:Groundstrokes
DESCRIPTION:
URL:https://cambridgetennis.org/social-tournament-events/groundstrokes/2026-11-10/
END:VEVENT
BEGIN:VEVENT
DTSTART;TZID=Europe/Paris:20261111T073000
DTEND;TZID=Europe/Paris:20261111T090000
DTSTAMP:20260425T053836
CREATED:20250814T173459Z
LAST-MODIFIED:20250814T173459Z
UID:10000757-1794382200-1794387600@cambridgetennis.org
SUMMARY:Breakfast Club
DESCRIPTION:
URL:https://cambridgetennis.org/social-tournament-events/breakfast-club-2/2026-11-11/
END:VEVENT
BEGIN:VEVENT
DTSTART;TZID=Europe/Paris:20261113T073000
DTEND;TZID=Europe/Paris:20261113T090000
DTSTAMP:20260425T053836
CREATED:20250814T173459Z
LAST-MODIFIED:20250814T173459Z
UID:10000758-1794555000-1794560400@cambridgetennis.org
SUMMARY:Breakfast Club
DESCRIPTION:
URL:https://cambridgetennis.org/social-tournament-events/breakfast-club-2/2026-11-13/
END:VEVENT
BEGIN:VEVENT
DTSTART;TZID=Europe/Paris:20261116T073000
DTEND;TZID=Europe/Paris:20261116T090000
DTSTAMP:20260425T053836
CREATED:20250814T173459Z
LAST-MODIFIED:20250814T173459Z
UID:10000759-1794814200-1794819600@cambridgetennis.org
SUMMARY:Breakfast Club
DESCRIPTION:
URL:https://cambridgetennis.org/social-tournament-events/breakfast-club-2/2026-11-16/
END:VEVENT
BEGIN:VEVENT
DTSTART;TZID=Europe/Paris:20261116T173000
DTEND;TZID=Europe/Paris:20261116T190000
DTSTAMP:20260425T053836
CREATED:20250814T173137Z
LAST-MODIFIED:20250814T173137Z
UID:10000103-1794850200-1794855600@cambridgetennis.org
SUMMARY:Women's Doubles 3.0+
DESCRIPTION:
URL:https://cambridgetennis.org/social-tournament-events/womens-doubles-3-0/2026-11-16/
END:VEVENT
BEGIN:VEVENT
DTSTART;TZID=Europe/Paris:20261117T183000
DTEND;TZID=Europe/Paris:20261117T200000
DTSTAMP:20260425T053836
CREATED:20250814T173303Z
LAST-MODIFIED:20250814T173303Z
UID:10000365-1794940200-1794945600@cambridgetennis.org
SUMMARY:Groundstrokes
DESCRIPTION:
URL:https://cambridgetennis.org/social-tournament-events/groundstrokes/2026-11-17/
END:VEVENT
BEGIN:VEVENT
DTSTART;TZID=Europe/Paris:20261118T073000
DTEND;TZID=Europe/Paris:20261118T090000
DTSTAMP:20260425T053836
CREATED:20250814T173459Z
LAST-MODIFIED:20250814T173459Z
UID:10000760-1794987000-1794992400@cambridgetennis.org
SUMMARY:Breakfast Club
DESCRIPTION:
URL:https://cambridgetennis.org/social-tournament-events/breakfast-club-2/2026-11-18/
END:VEVENT
BEGIN:VEVENT
DTSTART;TZID=Europe/Paris:20261120T073000
DTEND;TZID=Europe/Paris:20261120T090000
DTSTAMP:20260425T053836
CREATED:20250814T173459Z
LAST-MODIFIED:20250814T173459Z
UID:10000761-1795159800-1795165200@cambridgetennis.org
SUMMARY:Breakfast Club
DESCRIPTION:
URL:https://cambridgetennis.org/social-tournament-events/breakfast-club-2/2026-11-20/
END:VEVENT
BEGIN:VEVENT
DTSTART;TZID=Europe/Paris:20261123T073000
DTEND;TZID=Europe/Paris:20261123T090000
DTSTAMP:20260425T053836
CREATED:20250814T173459Z
LAST-MODIFIED:20250814T173459Z
UID:10000762-1795419000-1795424400@cambridgetennis.org
SUMMARY:Breakfast Club
DESCRIPTION:
URL:https://cambridgetennis.org/social-tournament-events/breakfast-club-2/2026-11-23/
END:VEVENT
BEGIN:VEVENT
DTSTART;TZID=Europe/Paris:20261123T173000
DTEND;TZID=Europe/Paris:20261123T190000
DTSTAMP:20260425T053836
CREATED:20250814T173137Z
LAST-MODIFIED:20250814T173137Z
UID:10000104-1795455000-1795460400@cambridgetennis.org
SUMMARY:Women's Doubles 3.0+
DESCRIPTION:
URL:https://cambridgetennis.org/social-tournament-events/womens-doubles-3-0/2026-11-23/
END:VEVENT
BEGIN:VEVENT
DTSTART;TZID=Europe/Paris:20261124T183000
DTEND;TZID=Europe/Paris:20261124T200000
DTSTAMP:20260425T053836
CREATED:20250814T173303Z
LAST-MODIFIED:20250814T173303Z
UID:10000366-1795545000-1795550400@cambridgetennis.org
SUMMARY:Groundstrokes
DESCRIPTION:
URL:https://cambridgetennis.org/social-tournament-events/groundstrokes/2026-11-24/
END:VEVENT
BEGIN:VEVENT
DTSTART;TZID=Europe/Paris:20261125T073000
DTEND;TZID=Europe/Paris:20261125T090000
DTSTAMP:20260425T053836
CREATED:20250814T173459Z
LAST-MODIFIED:20250814T173459Z
UID:10000763-1795591800-1795597200@cambridgetennis.org
SUMMARY:Breakfast Club
DESCRIPTION:
URL:https://cambridgetennis.org/social-tournament-events/breakfast-club-2/2026-11-25/
END:VEVENT
BEGIN:VEVENT
DTSTART;TZID=Europe/Paris:20261127T073000
DTEND;TZID=Europe/Paris:20261127T090000
DTSTAMP:20260425T053836
CREATED:20250814T173459Z
LAST-MODIFIED:20250814T173459Z
UID:10000764-1795764600-1795770000@cambridgetennis.org
SUMMARY:Breakfast Club
DESCRIPTION:
URL:https://cambridgetennis.org/social-tournament-events/breakfast-club-2/2026-11-27/
END:VEVENT
BEGIN:VEVENT
DTSTART;TZID=Europe/Paris:20261130T073000
DTEND;TZID=Europe/Paris:20261130T090000
DTSTAMP:20260425T053836
CREATED:20250814T173459Z
LAST-MODIFIED:20250814T173459Z
UID:10000765-1796023800-1796029200@cambridgetennis.org
SUMMARY:Breakfast Club
DESCRIPTION:
URL:https://cambridgetennis.org/social-tournament-events/breakfast-club-2/2026-11-30/
END:VEVENT
BEGIN:VEVENT
DTSTART;TZID=Europe/Paris:20261130T173000
DTEND;TZID=Europe/Paris:20261130T190000
DTSTAMP:20260425T053836
CREATED:20250814T173137Z
LAST-MODIFIED:20250814T173137Z
UID:10000105-1796059800-1796065200@cambridgetennis.org
SUMMARY:Women's Doubles 3.0+
DESCRIPTION:
URL:https://cambridgetennis.org/social-tournament-events/womens-doubles-3-0/2026-11-30/
END:VEVENT
END:VCALENDAR